BEGIN:VCALENDAR
VERSION:2.0
PRODID:-//ChamberMaster//Event Calendar 2.0//EN
METHOD:PUBLISH
X-PUBLISHED-TTL:P3D
REFRESH-INTERVAL:P3D
CALSCALE:GREGORIAN
BEGIN:VEVENT
DTSTART:20160123T013000Z
DTEND:20160123T040000Z
X-MICROSOFT-CDO-ALLDAYEVENT:FALSE
SUMMARY:Zydeco Dancehall Concert Coming to Farmington on January 22\, 2016
DESCRIPTION:PARK HILLS   With Mardi Gras coming a little earlier this year   February 9   revelers will have a chance to get a jump on the celebration.\n\n \n\nMineral Area Council on the Arts will host a Zydeco Dancehall Concert on Friday\, January 22 at Alexander's Ballroom at the Factory in Farmington. Individual tickets are $10\, available at Eventbrite.com or at the door. The evening begins with dance lessons at 6:45 p.m.\, followed by live music by the Boudin Brothers at 7:30 p.m. The evening is sponsored by 573 Magazine.\n\n \n\nTickets may be purchased online at Eventbrite.com or from Arts Council Executive Director Danielle Basler\, (573) 518-2125. More information may be found at www.MineralAreaArts.org.\n\n \n\n"Alexander's is such a great venue for a Zydeco dance\, with the wooden floors and retro surroundings\," Basler said. "And the Boudin Brothers have quite a following in St. Louis\, we're very fortunate to get them to Farmington to help us shake off the cabin fever and stomp our feet to some traditional Creole music."\n\n \n\nBasler said tickets are still being sold for the World Famous Glenn Miller Orchestra concert on Thursday\, Feb. 11\, at 7 p.m. Reserved seating is $17.50\, but discounted pricing is available for groups of 10 or more. Tickets may be purchased at the Farmington Civic Center or charged by phone at (573) 756-0900. The performance is being sponsored by the arts council and the City of Farmington.\n\n \n\n"Plenty of good seats are available\, but this is a real\, not-to-be-missed performance\, so it's a good idea to get tickets as soon as possible\," Basler said.\n\n \n\nFor more information on these and other arts council programs\, check out www.MineralAreaArts.org. Financial assistance for this project has been provided by the Missouri Arts Council\, a state agency.
X-ALT-DESC;FMTTYPE=text/html:<p><br />\nPARK HILLS &ndash\; With Mardi Gras coming a little earlier this year &ndash\;&nbsp\;February 9&nbsp\;&ndash\; revelers will have a chance to get a jump on the celebration.<br />\n&nbsp\;<br />\nMineral Area Council on the Arts will host a Zydeco Dancehall Concert on&nbsp\;Friday\, January 22&nbsp\;at Alexander&rsquo\;s Ballroom at the Factory in Farmington. Individual tickets are $10\, available at Eventbrite.com or at the door. The evening begins with dance lessons at 6:45 p.m.\, followed by live music by the Boudin Brothers at&nbsp\;7:30 p.m.&nbsp\;The evening is sponsored by 573 Magazine.<br />\n&nbsp\;<br />\nTickets may be purchased online at Eventbrite.com or from Arts Council Executive Director Danielle Basler\,&nbsp\;<a href="tel:%28573%29%20518-2125" target="_blank">(573) 518-2125</a>. More information may be found at&nbsp\;<a href="http://www.mineralareaarts.org/" target="_blank">www.MineralAreaArts.org</a>.<br />\n&nbsp\;<br />\n&ldquo\;Alexander&rsquo\;s is such a great venue for a Zydeco dance\, with the wooden floors and retro surroundings\,&rdquo\; Basler said. &ldquo\;And the Boudin Brothers have quite a following in St. Louis\, we&rsquo\;re very fortunate to get them to Farmington to help us shake off the cabin fever and stomp our feet to some traditional Creole music.&rdquo\;<br />\n&nbsp\;<br />\nBasler said tickets are still being sold for the&nbsp\;World Famous Glenn Miller Orchestra concert on&nbsp\;Thursday\, Feb. 11\, at&nbsp\;7 p.m.&nbsp\;Reserved seating is $17.50\, but discounted pricing is available for groups of 10 or more. Tickets may be purchased at the Farmington Civic Center or charged by phone at&nbsp\;<a href="tel:%28573%29%20756-0900" target="_blank">(573) 756-0900</a>. The performance is being sponsored by the arts council and the City of Farmington.<br />\n&nbsp\;<br />\n&ldquo\;Plenty of good seats are available\, but this is a real\, not-to-be-missed performance\, so it&rsquo\;s a good idea to get tickets as soon as possible\,&rdquo\; Basler said.<br />\n&nbsp\;<br />\nFor more information on these and other arts council programs\, check out&nbsp\;<a href="http://www.mineralareaarts.org/" target="_blank">www.MineralAreaArts.org</a>. Financial assistance for this project has been provided by the Missouri Arts Council\, a state agency.</p>\n
LOCATION:Alexander's Ballroom In the Factory Farmington\, MO 63640
UID:e.1642.5181
SEQUENCE:3
DTSTAMP:20260424T091102Z
URL:https://business.phlcoc.net/events/details/zydeco-dancehall-concert-coming-to-farmington-on-january-22-2016-01-22-2016-5181
END:VEVENT

END:VCALENDAR
