BEGIN:VCALENDAR
VERSION:2.0
PRODID:-//ChamberMaster//Event Calendar 2.0//EN
METHOD:PUBLISH
X-PUBLISHED-TTL:P3D
REFRESH-INTERVAL:P3D
CALSCALE:GREGORIAN
BEGIN:VEVENT
DTSTART:20210915T140000Z
DTEND:20210915T220000Z
X-MICROSOFT-CDO-ALLDAYEVENT:FALSE
SUMMARY:You're invited to C & C Janitorial & Food Service Supply\, LLC's 2nd Annual Open House!
DESCRIPTION:You're invited to C & C Janitorial & Food Service Supply\, LLC's 2nd Annual Open House!\n\n\n\nCome by between 9:00 a.m. and 5:00 p.m. on Wednesday\, September 15\, 2021\, for Specials\, Discounts\, Prize Drawings\, & Food Trucks!\n\n\n\nDrawing to be held at 5:00 p.m. with Grand Prizes Valued at $850!\n\n\n\nFood Trucks\, Casey's Cooking & QuesoJita\, will be on-site from 11:00 a.m. to 3:00 p.m.!\n\n\n\nC & C Janitorial & Food Service Supply\, LLC is located at 4783 Flat River Rd\, Ste. D in Farmington. On the (northbound) outer road between the Farmington & the Fairgrounds Drive Exit.
X-ALT-DESC;FMTTYPE=text/html:<br />\nYou&#39\;re invited to C &amp\; C Janitorial &amp\; Food Service Supply\, LLC&#39\;s 2nd Annual Open House!<br />\n<br />\nCome by between 9:00 a.m. and 5:00 p.m. on Wednesday\, September 15\, 2021\, for&nbsp\;<strong>Specials</strong>\,&nbsp\;<strong>Discounts</strong>\,&nbsp\;<strong>Prize&nbsp\;Drawings</strong>\, &amp\;&nbsp\;<strong>Food Trucks</strong>!<br />\n<br />\nDrawing to be held at 5:00 p.m. with Grand Prizes Valued at $850!<br />\n<br />\nFood Trucks\, Casey&#39\;s Cooking &amp\; QuesoJita\, will be on-site from 11:00 a.m. to 3:00 p.m.!<br />\n<br />\nC &amp\; C Janitorial &amp\; Food Service Supply\, LLC is located at&nbsp\;4783 Flat River Rd\, Ste. D in&nbsp\;Farmington. On the (northbound) outer road between the Farmington &amp\; the Fairgrounds Drive Exit.
LOCATION:
UID:e.1642.10648
SEQUENCE:3
DTSTAMP:20260420T021643Z
URL:https://business.phlcoc.net/events/details/you-re-invited-to-c-c-janitorial-food-service-supply-llc-s-2nd-annual-open-house-10648
END:VEVENT

END:VCALENDAR
