BEGIN:VCALENDAR
VERSION:2.0
PRODID:-//ChamberMaster//Event Calendar 2.0//EN
METHOD:PUBLISH
X-PUBLISHED-TTL:P3D
REFRESH-INTERVAL:P3D
CALSCALE:GREGORIAN
BEGIN:VEVENT
DTSTART:20210313T180000Z
DTEND:20210313T200000Z
X-MICROSOFT-CDO-ALLDAYEVENT:FALSE
SUMMARY:Vineyard Lofts Open House
DESCRIPTION:Hulsey Properties will be hosting an open house this Saturday\, March 13th\, from 12:00 p.m. to 2:00 p.m.\n\n\n\nWalkthrough the building to see the new updates to the Vineyard Lofts and Hulsey Properties building at 337 West Main Street in Park Hills. We would love to see you there!
X-ALT-DESC;FMTTYPE=text/html:<br />\n<span style="font-size:14px">Hulsey Properties will be hosting an open house this Saturday\, March 13th\, from 12:00 p.m. to 2:00 p.m.<br />\n<br />\nWalkthrough the building to see the new updates to the Vineyard Lofts and Hulsey Properties building at 337 West Main Street in Park Hills. We would love to see you there!&nbsp\;</span>
LOCATION:
UID:e.1642.10511
SEQUENCE:3
DTSTAMP:20260420T123936Z
URL:https://business.phlcoc.net/events/details/vineyard-lofts-open-house-10511
END:VEVENT

END:VCALENDAR
