BEGIN:VCALENDAR
VERSION:2.0
PRODID:-//ChamberMaster//Event Calendar 2.0//EN
METHOD:PUBLISH
X-PUBLISHED-TTL:P3D
REFRESH-INTERVAL:P3D
CALSCALE:GREGORIAN
BEGIN:VEVENT
DTSTART:20210613T190000Z
DTEND:20210615T020000Z
X-MICROSOFT-CDO-ALLDAYEVENT:FALSE
SUMMARY:The St. Francois County Rotary Presents: The Culpepper-Merriweather Circus
DESCRIPTION:Join us at Engler Park on Sunday\, June 13th & Monday\, June 14th for the Culpepper-Merriweather Circus presented by the St. Francois Co. Rotary Club!\n\nAdmission tickets are available at a discounted rate from Rotarians.\n\n\n	$12 per adult ticket\n	$7 per child ticket\n\n\nTickets purchased the day of are higher.\n\nCulpepper-Merriweather is thrilled to present our best performance yet in our 35-year history! With an all-star group of performers from the United States\, Canada\, and Mexico\, anyone from toddlers to grandparents will enjoy the action-packed 90-minute show! There is truly something for everyone! With a variety of acts featuring animals\, acrobats\, comedy\, and balancing\, your whole family will be left talking about what their particular favorite was.
X-ALT-DESC;FMTTYPE=text/html:<p><br />\nJoin us at Engler Park on Sunday\, June 13th &amp\; Monday\, June 14th for the Culpepper-Merriweather Circus presented by the St. Francois Co. Rotary Club!</p>\n\n<p>Admission tickets are available at a discounted rate from Rotarians.</p>\n\n<ul>\n	<li>$12 per adult ticket</li>\n	<li>$7 per child ticket</li>\n</ul>\n\n<p>Tickets purchased the day of are higher.</p>\n\n<p>Culpepper-Merriweather is thrilled to present our best performance yet in our 35-year history! With an all-star group of performers from the United States\, Canada\, and Mexico\, anyone from toddlers to grandparents will enjoy the action-packed 90-minute show! There is truly something for everyone! With a variety of acts featuring animals\, acrobats\, comedy\, and balancing\, your whole family will be left talking about what their particular favorite was.</p>\n
LOCATION:Engler Park in Farmington
UID:e.1642.10606
SEQUENCE:3
DTSTAMP:20260420T074713Z
URL:https://business.phlcoc.net/events/details/the-st-francois-county-rotary-presents-the-culpepper-merriweather-circus-10606
END:VEVENT

END:VCALENDAR
