BEGIN:VCALENDAR
VERSION:2.0
PRODID:-//ChamberMaster//Event Calendar 2.0//EN
METHOD:PUBLISH
X-PUBLISHED-TTL:P3D
REFRESH-INTERVAL:P3D
CALSCALE:GREGORIAN
BEGIN:VEVENT
DTSTART:20230220T150000Z
DTEND:20230220T170000Z
X-MICROSOFT-CDO-ALLDAYEVENT:FALSE
SUMMARY:State of the County Address
DESCRIPTION:You are Cordially Invited to the 6th Annual State of St. Francois County Address\n\n\n\nTo be held on Monday\, February 20\, 2023\, at 9:00 a.m.\, at Mineral Area College in Park Hills\, Missouri.\n\n\n	Continental Breakfast served at 9:00 a.m. in Mineral Area College Concourse\n	The presentation begins at 10:00 a.m. in Mineral Area Fine Arts Theater\n\n\nSpeakers to include:\n\n\n	Dr. Joe Gilgour\, Mineral Area College President\n	Mayor Seth Radford\, City of Bismarck\n	Mayor Erik Schonhards\, City of Bonne Terre\n	Mayor David Shaw\, City of Desloge\n	Mayor Larry Forsyth\, City of Farmington\n	Mayor Stacey Easter\, City of Park Hills\n	Harold Gallaher\, St. Francois County Presiding Commissioner\n\n\nSpecial Performance by:\n\nThe Mineral Area College Music Department\n\n\n\nTicket Pricing & Reservations:\n\nTickets are $5.00 Per Person and Include Breakfast.\n\n\n\nTickets must be purchased in advance! Please RSVP no later than 3:00 p.m. February 10\, 2023\n\n\n\nPresented by the Chambers of Commerce of St. Francois County\n\n\n	Park Hills - Leadington Chamber of Commerce\n	Farmington Chamber of Commerce\n	Desloge Chamber of Commerce\n	Bonne Terre Chamber of Commerce\n	Bismarck Chamber of Commerce\n\nIn the event of inclement weather\, we will reschedule for Monday\, February 27\, 2022.
X-ALT-DESC;FMTTYPE=text/html:<div><br />\n<span style="font-size:16px\;"><strong>You are Cordially Invited to the 6th&nbsp\;Annual State of St. Francois&nbsp\;County Address</strong><br />\n<br />\nTo be held on Monday\, February 20\, 2023\, at 9:00 a.m.\, at&nbsp\;Mineral Area College in Park Hills\, Missouri.</span></div>\n\n<ul>\n	<li><span style="font-size:16px\;">Continental Breakfast&nbsp\;served at 9:00 a.m. in Mineral Area College Concourse</span></li>\n	<li><span style="font-size:16px\;">The presentation begins at 10:00 a.m. in Mineral Area Fine Arts&nbsp\;Theater</span></li>\n</ul>\n\n<div><span style="font-size:16px\;"><strong>Speakers to include:</strong></span></div>\n\n<ul>\n	<li><span style="font-size:16px\;">Dr. Joe Gilgour\, Mineral Area College President</span></li>\n	<li><span style="font-size:16px\;">Mayor Seth Radford\, City of Bismarck</span></li>\n	<li><span style="font-size:16px\;">Mayor Erik Schonhards\, City of Bonne Terre</span></li>\n	<li><span style="font-size:16px\;">Mayor David Shaw\, City of Desloge</span></li>\n	<li><span style="font-size:16px\;">Mayor Larry Forsyth\, City of Farmington</span></li>\n	<li><span style="font-size:16px\;">Mayor Stacey Easter\, City of Park Hills</span></li>\n	<li><span style="font-size:16px\;">Harold Gallaher\, St. Francois County Presiding Commissioner</span></li>\n</ul>\n\n<div><span style="font-size:16px\;"><strong>Special Performance by:</strong><br />\nThe Mineral Area College Music Department<br />\n<br />\n<strong>Ticket Pricing&nbsp\;&amp\; Reservations:</strong><br />\nTickets are $5.00&nbsp\;Per Person and Include&nbsp\;Breakfast.<br />\n<br />\n<strong>Tickets must be purchased in advance!&nbsp\;</strong>Please&nbsp\;RSVP no later than 3:00 p.m. February 10\, 2023<br />\n<br />\n<strong>Presented by the Chambers of Commerce of St. Francois County</strong></span></div>\n\n<ul>\n	<li><span style="font-size:16px\;">Park Hills - Leadington Chamber of Commerce</span></li>\n	<li><span style="font-size:16px\;">Farmington Chamber of Commerce</span></li>\n	<li><span style="font-size:16px\;">Desloge Chamber of Commerce</span></li>\n	<li><span style="font-size:16px\;">Bonne Terre Chamber of Commerce</span></li>\n	<li><span style="font-size:16px\;">Bismarck Chamber of Commerce</span></li>\n</ul>\n<span style="font-size:16px\;"><span style="color:#FF0000\;"><em>In the event of inclement weather\, we will reschedule for Monday\, February 27\, 2022.</em></span></span>
LOCATION:Mineral Area College Fine Arts Theater
UID:e.1642.11315
SEQUENCE:3
DTSTAMP:20260423T174933Z
URL:https://business.phlcoc.net/events/details/state-of-the-county-address-11315
END:VEVENT

END:VCALENDAR
