BEGIN:VCALENDAR
VERSION:2.0
PRODID:-//ChamberMaster//Event Calendar 2.0//EN
METHOD:PUBLISH
X-PUBLISHED-TTL:P3D
REFRESH-INTERVAL:P3D
CALSCALE:GREGORIAN
BEGIN:VEVENT
DTSTART;VALUE=DATE:20210918
DTEND;VALUE=DATE:20210919
TRANSP:TRANSPARENT
X-MICROSOFT-CDO-ALLDAYEVENT:TRUE
SUMMARY:St. Joe State Park hosts public information meeting Sept. 18
DESCRIPTION:St. Joe State Park hosts public information meeting Sept. 18\n\nRepresentatives from Missouri State Parks invite the public to attend an informational meeting at St. Joe State Park on Saturday\, Sept. 18. The meeting will begin at 2 p.m. at Shelter 1 located within the Pim Day-Use Area.\n\nThe public is invited to share comments and ask questions about the park and its operations. Representatives from the park will be present to provide information and to answer questions.\n\nInput from the public is important to Missouri State Parks. These informational meetings\, which are being held in all state parks and historic sites\, help create two-way communication with the public. The meetings give staff the opportunity to let people know the current status and future plans for the park or historic site\, and they offer visitors the opportunity to comment on the facilities. For a list of scheduled informational meetings\, visit mostateparks.com/page/66611/informational-meetings.\n\nThe public is strongly encouraged to follow social-distancing guidelines and be proactive in protecting themselves and others.\n\nSt. Joe State Park is located at 2800 Pimville Road approximately three miles south of Highway 32 in Park Hills. For more information about the meeting\, call the park at 573-431-6226.\n\nFor more information on state parks and historic sites\, visit mostateparks.com. Missouri State Parks is a division of the Missouri Department of Natural Resources.
X-ALT-DESC;FMTTYPE=text/html:<p style="text-align:center"><strong><span style="font-size:24.0pt">St. Joe State Park hosts public information meeting Sept. 18</span></strong></p>\n\n<p>Representatives from Missouri State Parks invite the public to attend an informational meeting at St. Joe State Park on Saturday\, Sept. 18. The meeting will begin at 2 p.m. at Shelter 1 located within the Pim Day-Use Area.</p>\n\n<p>The public is invited to share comments and ask questions about the park and its operations. Representatives from the park will be present to provide information and to answer questions.</p>\n\n<p>Input from the public is important to Missouri State Parks. These informational meetings\, which are being held in all state parks and historic sites\, help create two-way communication with the public. The meetings give staff the opportunity to let people know the current status and future plans for the park or historic site\, and they offer visitors the opportunity to comment on the facilities. For a list of scheduled informational meetings\,&nbsp\;visit&nbsp\;<a href="https://urldefense.com/v3/__https:/lnks.gd/l/eyJhbGciOiJIUzI1NiJ9.eyJidWxsZXRpbl9saW5rX2lkIjoxMDEsInVyaSI6ImJwMjpjbGljayIsImJ1bGxldGluX2lkIjoiMjAyMTA5MDMuNDU0NTE2NzEiLCJ1cmwiOiJodHRwczovL21vc3RhdGVwYXJrcy5jb20vcGFnZS82NjYxMS9pbmZvcm1hdGlvbmFsLW1lZXRpbmdzIn0.UYKEcI9efsN77D6nDk2OInK812HD_AcKDkK3riUWme0/s/84297421/br/111856849480-l__\;!!EErPFA7f--AJOw!VzHj4yE3v-zQcpLsXhRbgthbjnbJuADAxLC-KF9Nw2uiongUg-Wjv7OU35gJStgeJ3q4jg$">mostateparks.com/page/66611/informational-meetings</a>.</p>\n\n<p>The public is strongly encouraged to follow social-distancing guidelines and be proactive in protecting themselves and others.</p>\n\n<p>St. Joe State Park is located at 2800 Pimville Road approximately three miles south of Highway 32 in Park Hills. For more information about the meeting\, call the park at 573-431-6226.</p>\n\n<p>For more information on state parks and historic sites\, visit&nbsp\;<a href="https://urldefense.com/v3/__https:/lnks.gd/l/eyJhbGciOiJIUzI1NiJ9.eyJidWxsZXRpbl9saW5rX2lkIjoxMDIsInVyaSI6ImJwMjpjbGljayIsImJ1bGxldGluX2lkIjoiMjAyMTA5MDMuNDU0NTE2NzEiLCJ1cmwiOiJodHRwczovL21vc3RhdGVwYXJrcy5jb20vIn0.fVxjkMisrujTmURQWcAZ0lwy5xn067ztNINumKTDaE0/s/84297421/br/111856849480-l__\;!!EErPFA7f--AJOw!VzHj4yE3v-zQcpLsXhRbgthbjnbJuADAxLC-KF9Nw2uiongUg-Wjv7OU35gJStjqAbZy7g$">mostateparks.com</a>.&nbsp\;Missouri State Parks is a division of the Missouri Department of Natural Resources.</p>\n
LOCATION:St. Joe State Park at Shelter #1
UID:e.1642.10653
SEQUENCE:3
DTSTAMP:20260420T021204Z
URL:https://business.phlcoc.net/events/details/st-joe-state-park-hosts-public-information-meeting-sept-18-10653
END:VEVENT

END:VCALENDAR
