BEGIN:VCALENDAR
VERSION:2.0
PRODID:-//ChamberMaster//Event Calendar 2.0//EN
METHOD:PUBLISH
X-PUBLISHED-TTL:P3D
REFRESH-INTERVAL:P3D
CALSCALE:GREGORIAN
BEGIN:VEVENT
DTSTART:20200925T130000Z
DTEND:20200925T140000Z
X-MICROSOFT-CDO-ALLDAYEVENT:FALSE
SUMMARY:Special Meeting of the Chamber Board of Directors via ZOOM
DESCRIPTION:A special meeting of the Park Hills - Leadington Chamber of Commerce Board of Directors will be held on Friday\, September 25\, 2020\, at 8:00 a.m. via ZOOM.\n\n\n\nThese are closed business meetings scheduled for the appointed Chamber of Commerce board members.
X-ALT-DESC;FMTTYPE=text/html:A special meeting of the Park Hills - Leadington Chamber of Commerce Board of Directors will be held on Friday\, September 25\, 2020\, at 8:00 a.m. via ZOOM.<br />\n<br />\nThese are closed business meetings scheduled for the appointed Chamber of Commerce board members.
LOCATION:ZOOM
UID:e.1642.10183
SEQUENCE:3
DTSTAMP:20260421T000101Z
URL:https://business.phlcoc.net/events/details/special-meeting-of-the-chamber-board-of-directors-via-zoom-10183
END:VEVENT

END:VCALENDAR
