BEGIN:VCALENDAR
VERSION:2.0
PRODID:-//ChamberMaster//Event Calendar 2.0//EN
METHOD:PUBLISH
X-PUBLISHED-TTL:P3D
REFRESH-INTERVAL:P3D
CALSCALE:GREGORIAN
BEGIN:VEVENT
DTSTART:20230330T160000Z
DTEND:20230330T170000Z
X-MICROSOFT-CDO-ALLDAYEVENT:FALSE
SUMMARY:Scholarship Interviews
DESCRIPTION:The Chamber's Scholarship Committee will be meeting to interview the 2023 Scholarship Applicants on Thursday\, March 30\, 2023\, at 11:00 a.m. at Central High School.\n\n\n\nThe Scholarship Committee Members are responsible for the following items in relation to the Chamber's Scholarship Program:\n\n	Creating and outlining a scholarship program offered by the Chamber to select Central High School students for attendance at one of our local community colleges\n	 Recruiting representatives from Central High School and the local community colleges to serve on the committee\n	Designing the scholarship guidelines\n	Coordinating the scholarship program with Central High School and the local community colleges\n	Funding the scholarship\n	Selecting the scholarship recipient\n	Evaluating and improving the scholarship program periodically
X-ALT-DESC;FMTTYPE=text/html:<br />\n<br />\n<span style="font-size:16px\;">The Chamber&#39\;s Scholarship Committee will be meeting to interview the 2023 Scholarship Applicants on Thursday\, March 30\, 2023\, at 11:00 a.m. at Central High School.<br />\n<br />\nThe Scholarship Committee Members are responsible for the following items in relation to the Chamber&#39\;s Scholarship Program:</span>\n<ul>\n	<li><span style="font-size:16px\;"><em>Creating and outlining a scholarship program offered by the Chamber to select Central High School students for attendance at one of our local community colleges</em></span></li>\n	<li><span style="font-size:16px\;"><em>&nbsp\;Recruiting representatives from Central High School and the local community colleges to serve on the committee</em></span></li>\n	<li><span style="font-size:16px\;"><em>Designing the scholarship guidelines</em></span></li>\n	<li><span style="font-size:16px\;"><em>Coordinating the scholarship program&nbsp\;with Central High School and the local community colleges</em></span></li>\n	<li><span style="font-size:16px\;"><em>Funding the scholarship</em></span></li>\n	<li><span style="font-size:16px\;"><em>Selecting the scholarship recipient</em></span></li>\n	<li><span style="font-size:16px\;"><em>Evaluating and improving the scholarship program periodically</em></span></li>\n</ul>\n
LOCATION:Central High School
UID:e.1642.11398
SEQUENCE:3
DTSTAMP:20260423T191426Z
URL:https://business.phlcoc.net/events/details/scholarship-interviews-11398
END:VEVENT

END:VCALENDAR
