BEGIN:VCALENDAR
VERSION:2.0
PRODID:-//ChamberMaster//Event Calendar 2.0//EN
METHOD:PUBLISH
X-PUBLISHED-TTL:P3D
REFRESH-INTERVAL:P3D
CALSCALE:GREGORIAN
BEGIN:VEVENT
DTSTART:20201208T230000Z
DTEND:20201209T010000Z
X-MICROSOFT-CDO-ALLDAYEVENT:FALSE
SUMMARY:Santa's Coming to RaeColes Coffee Bar
DESCRIPTION:Don't be a grinch\, come see Santa at RaeCole's Coffee Bar this year on December 1st and 8th!\n\n\n\nHe will be here from 5:00 p.m. to 7:00 p.m. both days\, which is the perfect amount of time to snag a picture\, tell him what's on your list\, and grab your favorite drink from us! We look forward to seeing you then!
X-ALT-DESC;FMTTYPE=text/html:<p><br />\n<span style="font-size:14px">Don&#39\;t be a grinch\, come see Santa at <strong><a href="https://business.phlcoc.net/list/member/raecole-s-coffee-bar-268">RaeCole&#39\;s Coffee Bar</a></strong> this year on December 1st and 8th!<br />\n<br />\nHe will be here from 5:00 p.m. to 7:00 p.m. both days\, which is the perfect amount of time to snag a picture\, tell him what&#39\;s on your list\, and grab your favorite drink from us! We look forward to seeing you then!</span></p>\n
LOCATION:RaeCole's Coffee Bar
UID:e.1642.10232
SEQUENCE:3
DTSTAMP:20260420T165704Z
URL:https://business.phlcoc.net/events/details/santa-s-coming-to-raecoles-coffee-bar-12-08-2020-10232
END:VEVENT

END:VCALENDAR
