BEGIN:VCALENDAR
VERSION:2.0
PRODID:-//ChamberMaster//Event Calendar 2.0//EN
METHOD:PUBLISH
X-PUBLISHED-TTL:P3D
REFRESH-INTERVAL:P3D
CALSCALE:GREGORIAN
BEGIN:VEVENT
DTSTART:20240531T223000Z
DTEND:20240601T020000Z
X-MICROSOFT-CDO-ALLDAYEVENT:FALSE
SUMMARY:Salmon Creek Band at Fyre Lake Winery
DESCRIPTION:Fyre Lake Winery Presents:\n\nSalmon Creek Band Live in Concert\n\nMay 31st\, 2024\n\n\n\nGet ready for an electrifying performance at Fyre Lake Winery as the talented Salmon Creek Band takes the stage on Friday\, May 31st! This high-energy group is sure to get your toes tapping and hands clapping with their dynamic blend of rock\, country\, and contemporary hits.\n\n\n\nKnown for their tight harmonies\, impressive musicianship\, and engaging stage presence\, Salmon Creek Band will captivate the audience from the first note to the last. Whether you're a longtime fan or discovering them for the first time\, this is one show you won't want to miss.\n\n\n\nJoin us at Fyre Lake Winery as we welcome the Salmon Creek Band for an unforgettable night of live music. Grab your friends\, pour a glass of our award-winning wine\, and get ready to rock the night away!\n\n\n\nAbout Fyre Lake Winery:\n\nLocated in the charming town of Cadet\, Missouri\, Fyre Lake Winery offers a picturesque setting to enjoy award-winning wines and delectable cuisine. Established in 2015\, our family-owned winery takes pride in crafting small-batch wines that highlight the unique terroir of the Ozark region. From crisp whites to bold reds and fruit-forward ros s\, there is something to delight every palate.\n\n\n\nDon't miss your chance to experience the electrifying sounds of the Salmon Creek Band at Fyre Lake Winery on May 31st. We can't wait to see you there!
X-ALT-DESC;FMTTYPE=text/html:<br />\n<span style="font-size:16px"><strong>Fyre Lake Winery Presents:</strong><br />\nSalmon Creek Band Live in Concert<br />\nMay 31st\, 2024<br />\n<br />\nGet ready for an electrifying performance at Fyre Lake Winery as the talented Salmon Creek Band takes the stage on Friday\, May 31st! This high-energy group is sure to get your toes tapping and hands clapping with their dynamic blend of rock\, country\, and contemporary hits.<br />\n<br />\nKnown for their tight harmonies\, impressive musicianship\, and engaging stage presence\, Salmon Creek Band will captivate the audience from the first note to the last. Whether you&#39\;re a longtime fan or discovering them for the first time\, this is one show you won&#39\;t want to miss.<br />\n<br />\nJoin us at Fyre Lake Winery as we welcome the Salmon Creek Band for an unforgettable night of live music. Grab your friends\, pour a glass of our award-winning wine\, and get ready to rock the night away!<br />\n<br />\n<strong>About Fyre Lake Winery:</strong><br />\n<em>Located in the charming town of Cadet\, Missouri\, Fyre Lake Winery offers a picturesque setting to enjoy award-winning wines and delectable cuisine. Established in 2015\, our family-owned winery takes pride in crafting small-batch wines that highlight the unique terroir of the Ozark region. From crisp whites to bold reds and fruit-forward ros&eacute\;s\, there is something to delight every palate.</em><br />\n<br />\nDon&#39\;t miss your chance to experience the electrifying sounds of the Salmon Creek Band at Fyre Lake Winery on May 31st. We can&#39\;t wait to see you there!</span>
LOCATION:Fyre Lake Winery
UID:e.1642.12550
SEQUENCE:3
DTSTAMP:20260425T114406Z
URL:https://business.phlcoc.net/events/details/salmo-creek-band-at-fyre-lake-winery-12550
END:VEVENT

END:VCALENDAR
