BEGIN:VCALENDAR
VERSION:2.0
PRODID:-//ChamberMaster//Event Calendar 2.0//EN
METHOD:PUBLISH
X-PUBLISHED-TTL:P3D
REFRESH-INTERVAL:P3D
CALSCALE:GREGORIAN
BEGIN:VEVENT
DTSTART:20200918T180000Z
DTEND:20200918T181500Z
X-MICROSOFT-CDO-ALLDAYEVENT:FALSE
SUMMARY:Ribbon Cutting - Raising A Village
DESCRIPTION:Please join us for a Ribbon Cutting Ceremony at Raising a Village\, located at 103 Strauss Drive in Park Hills\, on Friday\, September 18\, 2020\, at 1:00 p.m.!\n\n\n\nRaising A Village is a mental health counseling center with services available for individuals\, families\, adults & children\, as well as play therapy. They offer group classes for parenting\, MRT\, anger management\, and other specialty classes needed to support the community.\n\n\n\nPer the St. Francois County Health Center and the Centers For Disease Control & Prevention\, Face Coverings and Social Distancing is STRONGLY RECOMMENDED for those in attendance.\n\n\n\nPHOTO RELEASE NOTICE: When you attend a Park Hills - Leadington Chamber of Commerce event\,  you enter an area where photography\, audio\, and video recording may occur. By entering the event premises\, you waive all rights to any claims for payment or royalties in connection with any use via advertising\, web\, social media\, televising\, or other publication of these materials.  You also waive any right to inspect or approve any photo\, video\, or audio recording taken by the Park Hills - Leadington Chamber of Commerce or the person or entity designated to do so by the Park Hills - Leadington Chamber of Commerce. This notice serves as your consent\, waiver of liability\, and release upon entering the event. Please let our photographer or another staff member know if you prefer not to be photographed. Thank you for attending this Park Hills - Leadington Chamber of Commerce Signature Event!
X-ALT-DESC;FMTTYPE=text/html:<p><span style="font-size:14px\;">Please join us for a Ribbon Cutting&nbsp\;Ceremony at <a href="https://business.phlcoc.net/list/member/raising-a-village-327">Raising a Village</a>\, located at 103 Strauss Drive in Park Hills\, on Friday\, September 18\, 2020\, at 1:00 p.m.!</span><br />\n<br />\n<span style="font-size:14px\;">Raising A Village is a mental health counseling center with services available for individuals\, families\, adults &amp\; children\, as well as&nbsp\;play therapy. They offer&nbsp\;group classes for parenting\, MRT\, anger management\, and other specialty classes needed to support the community.<br />\n<br />\n<span style="color:#FF0000\;">Per the St. Francois County Health Center and the Centers For Disease Control &amp\; Prevention\, Face Coverings and Social Distancing&nbsp\;is <strong>STRONGLY RECOMMENDED</strong> for those in attendance.</span></span><br />\n<br />\n<span style="font-size:12px\;"><strong>PHOTO RELEASE NOTICE:</strong>&nbsp\;When you attend a Park Hills - Leadington Chamber of Commerce event\,&nbsp\; you enter an area where photography\, audio\, and video recording may occur. By entering the event premises\, you waive all rights to any claims for payment or royalties in connection with any use via advertising\, web\, social media\, televising\, or other publication of these materials.&nbsp\; You also waive any right to inspect or approve any photo\, video\, or audio recording taken by the Park Hills - Leadington Chamber of Commerce or the person or entity designated to do so by the Park Hills - Leadington Chamber of Commerce. This notice serves as your consent\, waiver of liability\, and release upon entering the event. Please let our photographer or another staff member know if you prefer not to be photographed. Thank you for attending this Park Hills - Leadington Chamber of Commerce Signature Event!</span></p>\n
LOCATION:Raising A Village
UID:e.1642.10148
SEQUENCE:3
DTSTAMP:20260421T013620Z
URL:https://business.phlcoc.net/events/details/ribbon-cutting-raising-a-village-10148
END:VEVENT

END:VCALENDAR
