BEGIN:VCALENDAR
VERSION:2.0
PRODID:-//ChamberMaster//Event Calendar 2.0//EN
METHOD:PUBLISH
X-PUBLISHED-TTL:P3D
REFRESH-INTERVAL:P3D
CALSCALE:GREGORIAN
BEGIN:VEVENT
DTSTART:20210313T140000Z
DTEND:20210313T200000Z
X-MICROSOFT-CDO-ALLDAYEVENT:FALSE
SUMMARY:RaeCole’s 3rd Anniversary Celebration!
DESCRIPTION:RaeCole's Coffee Bar is celebrating their 3rd Anniversary on Saturday\, March 13th from 8:00 a.m. to 2:00 p.m. and you're invited to attend!\n\n\n\nLocated at 322 West Main Street in Park Hills\, we will have fun things planned all day including some giveaways\, new merchandise\, and specials.\n\n\n\nYour favorite food trucks will be joining us to celebrate too! Guest food trucks include The Lunch Lady\, Casey's Cooking\, Grandma's Sugar Shack\, and Macarons + More.\n\n\n\nArbour Season\, a husband and wife\, Indie/Folk duo will join in on the fun playing from 10:00 a.m. - 2:00 p.m. We hope to see you there!!
X-ALT-DESC;FMTTYPE=text/html:<br />\n<span style="font-size:14px">RaeCole&#39\;s Coffee Bar is celebrating their 3rd Anniversary on Saturday\, March 13th from 8:00 a.m. to 2:00 p.m. and you&#39\;re invited to attend!<br />\n<br />\nLocated at 322 West Main Street in Park Hills\, we will have fun things planned all day including some giveaways\, new merchandise\, and specials.<br />\n<br />\nYour favorite food trucks will be joining us to celebrate too! Guest food trucks include The Lunch Lady\, Casey&rsquo\;s Cooking\, Grandma&rsquo\;s Sugar Shack\, and Macarons + More.<br />\n<br />\nArbour Season\, a&nbsp\;husband and wife\, Indie/Folk duo will join in on the fun playing from 10:00 a.m. - 2:00 p.m. We hope to see you there!!</span>
LOCATION:
UID:e.1642.10512
SEQUENCE:3
DTSTAMP:20260420T141051Z
URL:https://business.phlcoc.net/events/details/raecole-s-3rd-anniversary-celebration-10512
END:VEVENT

END:VCALENDAR
