BEGIN:VCALENDAR
VERSION:2.0
PRODID:-//ChamberMaster//Event Calendar 2.0//EN
METHOD:PUBLISH
X-PUBLISHED-TTL:P3D
REFRESH-INTERVAL:P3D
CALSCALE:GREGORIAN
BEGIN:VEVENT
DTSTART:20210528T233000Z
DTEND:20210529T040000Z
X-MICROSOFT-CDO-ALLDAYEVENT:FALSE
SUMMARY:PRCA Rodeo at St. Francois County Fairgrounds
DESCRIPTION:PRCA Rodeo at the St. Francois County Fairgrounds\, May 28th & 29th\, 2021\n\n\n\nAdvanced Tickets on Sale Online beginning May 1\, 2021!\n\n\n\nGates open at 5:30 p.m. Admission is $12 for Adults\, $6 for Kids 6-12\, and FREE for kids under 5.\n\nMilitary & First Responders Night\, Friday\, May 28th. Valid Military IDs receive $2 Off.\n\n\n\nAll vendors and rides open for your food\, drinks\, and shopping pleasure.\n\n\n\nOrganized kid's games start at 6:30. Stick horse racing and dummy calf head roping.\n\n\n\nThe performance begins at 7:30 p.m.\n\n\n\nOpening by the "Coyote Drill Team" and National anthem by Raelyn Winick\n\n\n	Bareback Bronc\n	Saddle Bronc\n	Steer Wrestling\n	Calf roping\n	Intermission\n	Dusti Dickerson-trick rider\n	Team Roping\n	Barrell Racing\n	Mini Bulls-Friday night only\n	Bull Riding\n\n\nFood Vendors include: Concessionaire Extraordinaire\; Grandmas's Sugar Shack\; Hillbilly Shack\; Luna Ice\; Very\, Very Good Jerky\; Grey Eagle products\; Pepsi & Pendleton\, Cotton Candy.\n\n\n\nOther vendors include: Coles Tractor & Equipment\; Flying F Leather and Arts\; Haevern\; The Veterans Ranch\; Coldwell Banker Hulsey\; Camp Hope\; Cricket\; Toms Western Store\, Triple Creek Realty\; Willette Home Furnishings\; The Veterans Ranch\, and others.\n\n\n\nFor more information call Mike Hinkebein at 573-934-0734 or Ann Goodman at 573-561-6931.
X-ALT-DESC;FMTTYPE=text/html:<p><span style="font-size:14px"><strong>PRCA Rodeo at the St. Francois County Fairgrounds\, May 28th &amp\; 29th\, 2021</strong><br />\n<br />\nAdvanced Tickets on Sale <a href="http://www.sfcfairgrounds.com">Online</a> beginning May 1\, 2021!<br />\n<br />\nGates open at 5:30 p.m. Admission is $12 for Adults\, $6 for Kids 6-12\, and FREE for kids under 5.<br />\nMilitary &amp\; First Responders Night\, Friday\, May 28th. Valid Military IDs receive $2 Off.<br />\n<br />\nAll vendors and rides open for your food\, drinks\, and shopping pleasure.<br />\n<br />\nOrganized kid&#39\;s games start at 6:30. Stick horse racing and dummy calf head roping.<br />\n<br />\nThe performance begins at 7:30 p.m.<br />\n<br />\nOpening by the &ldquo\;Coyote Drill Team&rdquo\; and National anthem by Raelyn Winick</span></p>\n\n<ul>\n	<li>Bareback Bronc</li>\n	<li><span style="font-size:14px">Saddle Bronc</span></li>\n	<li><span style="font-size:14px">Steer Wrestling</span></li>\n	<li><span style="font-size:14px">Calf roping</span></li>\n	<li><span style="font-size:14px">Intermission</span></li>\n	<li><span style="font-size:14px">Dusti Dickerson-trick rider</span></li>\n	<li><span style="font-size:14px">Team Roping</span></li>\n	<li><span style="font-size:14px">Barrell Racing</span></li>\n	<li><span style="font-size:14px">Mini Bulls-Friday night only</span></li>\n	<li><span style="font-size:14px">Bull Riding</span></li>\n</ul>\n\n<p><span style="font-size:14px"><strong>Food Vendors include: </strong>Concessionaire Extraordinaire\; Grandmas&rsquo\;s Sugar Shack\; Hillbilly Shack\; Luna Ice\; Very\, Very Good Jerky\; Grey Eagle products\; Pepsi &amp\; Pendleton\, Cotton Candy.<br />\n<br />\n<strong>Other vendors include:</strong> Coles Tractor &amp\; Equipment\; Flying F Leather and Arts\; Haevern\; The Veterans Ranch\; Coldwell Banker Hulsey\; Camp Hope\; Cricket\; Toms Western Store\, Triple Creek Realty\; Willette Home Furnishings\; The Veterans Ranch\, and others.<br />\n<br />\nFor more information call Mike Hinkebein at 573-934-0734 or Ann Goodman at 573-561-6931.</span></p>\n
LOCATION:St. Francois County Fairgrounds
UID:e.1642.10594
SEQUENCE:3
DTSTAMP:20260420T092303Z
URL:https://business.phlcoc.net/events/details/prca-rodeo-at-st-francois-county-fairgrounds-10594
END:VEVENT

END:VCALENDAR
