BEGIN:VCALENDAR
VERSION:2.0
PRODID:-//ChamberMaster//Event Calendar 2.0//EN
METHOD:PUBLISH
X-PUBLISHED-TTL:P3D
REFRESH-INTERVAL:P3D
CALSCALE:GREGORIAN
BEGIN:VEVENT
DTSTART:20210319T190000Z
DTEND:20210319T230000Z
X-MICROSOFT-CDO-ALLDAYEVENT:FALSE
SUMMARY:Parkland Health Mart Pharmacy & TitleMax of Desloge to Hold Blood Drive
DESCRIPTION:Will You Give?\n\n\n\nParkland Health Mart Pharmacy Desloge and TitleMax of Desloge is co-sponsoring a blood drive. The Donor Bus will be located outside TitleMax\, located at 402 N. State Street in Desloge on Friday\, March 19\, 2021\, from 2:00 p.m. to 6:00 p.m.\n\n\n\nMasks & Appointments are Required!  To register now\, CLICK HERE!\n\n\n\nAll donors will receive a voucher to redeem for socks or a gift card.\n\n\n\nIf you recently made a blood donation\, or if you have already scheduled an appointment to donate blood\, please accept our thanks on behalf of the patients whose lives you may have touched. You may not give blood if you have received a notification from Mississippi Valley Regional Blood Center asking you not to do so. Those who are in generally good health and meet the age and weight requirements may be eligible to donate blood. Please bring a photo ID when you come to donate.
X-ALT-DESC;FMTTYPE=text/html:<span style="font-size:14px">Will You Give?<br />\n<br />\nParkland Health Mart Pharmacy Desloge and TitleMax of Desloge is co-sponsoring a blood drive. The Donor Bus will be located outside TitleMax\, located at 402 N. State Street in Desloge on Friday\, March 19\, 2021\, from 2:00 p.m. to 6:00 p.m.<br />\n<br />\nMasks &amp\; Appointments are Required!&nbsp\; To register now\, <a href="https://login.bloodcenter.org/donor/schedules/drive_schedule/99678"><strong>CLICK HERE</strong></a>!<br />\n<br />\nAll donors will receive a voucher to redeem for socks or a gift card.</span><br />\n<br />\n<span style="font-size:9px">If you recently made a blood donation\, or if you have already scheduled an appointment to donate blood\, please accept our thanks on behalf of the patients whose lives you may have touched. You may not give blood if you have received a notification from Mississippi Valley Regional Blood Center asking you not to do so. Those who are in generally good health and meet the age and weight requirements may be eligible to donate blood. Please bring a photo ID when you come to donate.</span>\n<div>&nbsp\;</div>\n
LOCATION:TitleMax of Desloge
UID:e.1642.10458
SEQUENCE:3
DTSTAMP:20260420T124305Z
URL:https://business.phlcoc.net/events/details/parkland-health-mart-pharmacy-titlemax-of-desloge-to-hold-blood-drive-10458
END:VEVENT

END:VCALENDAR
