BEGIN:VCALENDAR
VERSION:2.0
PRODID:-//ChamberMaster//Event Calendar 2.0//EN
METHOD:PUBLISH
X-PUBLISHED-TTL:P3D
REFRESH-INTERVAL:P3D
CALSCALE:GREGORIAN
BEGIN:VEVENT
DTSTART:20230104T170000Z
DTEND:20230104T180000Z
X-MICROSOFT-CDO-ALLDAYEVENT:FALSE
SUMMARY:New Board Member Orientation
DESCRIPTION:The newly appointed board members and/or ex-officio members will meet with members of the Board Nominations & Orientations Committee and the Executive Committee to review the board member orientations manual and discuss board member expectations.
X-ALT-DESC;FMTTYPE=text/html:<br />\n<span style="font-size:16px\;">The newly appointed board members and/or ex-officio members will meet with members of the Board Nominations &amp\; Orientations Committee and the Executive Committee to review the board member orientations manual and discuss board member expectations.</span>
LOCATION:Council Chambers
UID:e.1642.11311
SEQUENCE:3
DTSTAMP:20260423T161718Z
URL:https://business.phlcoc.net/events/details/new-board-member-orientation-11311
END:VEVENT

END:VCALENDAR
