BEGIN:VCALENDAR
VERSION:2.0
PRODID:-//ChamberMaster//Event Calendar 2.0//EN
METHOD:PUBLISH
X-PUBLISHED-TTL:P3D
REFRESH-INTERVAL:P3D
CALSCALE:GREGORIAN
BEGIN:VEVENT
DTSTART:20230707T170000Z
DTEND:20230707T171500Z
X-MICROSOFT-CDO-ALLDAYEVENT:FALSE
SUMMARY:Multi-Chamber Hosted Ribbon Cutting for Parkland Pet Cremation Services
DESCRIPTION:You're invited to a MULTI-CHAMBER-HOSTED RIBBON CUTTING for PARKLAND PET CREMATION SERVICES!\n\n\n\nThe Park Hills - Leadington\, Desloge\, Bonne Terre\, Farmington\, & Bismarck Chambers of Commerce\, are excited to join forces to celebrate the new ownership of this local company!\n\n\n\nThe Mayo family owned and operated in Park Hills\, Heartland Memorial Service for 12 years. In late 2022\, Brian Boyer of the Boyer Funeral Homes Family purchased the company\, renaming it Parkland Pet Cremation Services.\n\n\n\nIn a December 2022 article by the Daily Journal\, Boyer said "Parkland Pet Cremation Service gives us the opportunity to provide dignified care for our pet families." Boyer noted that "large corporate entities buy up family-owned businesses like funeral homes and pet crematories. In some cases\, the services' quality changes\, and families notice the personal touch is gone. That's not going to happen here."\n\n\n\nParkland Pet Cremation Services offers private and individual pet cremations and works with regional veterinary clinics that need communal cremation services.\n\n\n\nThe Ribbon Cutting will be held on Friday\, July 7\, 2023\, at 12 Noon! Parkland Pet Cremation Services is located at 1823 State Highway 8\, in Park Hills\, between Park Hills and Leadwood.\n\n\n\nWe hope you'll plan to join us!!
X-ALT-DESC;FMTTYPE=text/html:<p>&nbsp\;</p>\n<span style="font-size:16px\;">You&#39\;re invited to a <strong>MULTI-CHAMBER-HOSTED RIBBON CUTTING</strong>&nbsp\;for <strong>PARKLAND PET CREMATION SERVICES</strong>!<br />\n<br />\nThe Park Hills - Leadington\, Desloge\, Bonne Terre\, Farmington\, &amp\; Bismarck Chambers of Commerce\, are excited to join forces to celebrate the new ownership of this local company!<br />\n<br />\nThe Mayo family owned and operated in Park Hills\, Heartland Memorial Service for 12 years. In late 2022\, Brian Boyer of the Boyer Funeral Homes Family purchased the company\, renaming it Parkland Pet Cremation Services.<br />\n<br />\nIn a December 2022 article by the Daily Journal\, Boyer said &quot\;Parkland Pet Cremation Service gives us the opportunity to provide dignified care for our pet families.&quot\; Boyer noted that &quot\;large corporate entities buy up family-owned businesses like funeral homes and pet crematories. In some cases\, the services&#39\; quality changes\, and families notice the personal touch is gone. That&#39\;s not going to happen here.&quot\;<br />\n<br />\nParkland Pet Cremation Services offers private and individual pet cremations and works with regional veterinary clinics that need communal cremation services.<br />\n<br />\nThe Ribbon Cutting will be held&nbsp\;on Friday\, July 7\, 2023\, at 12 Noon! Parkland Pet Cremation Services is located at 1823 State Highway 8\, in Park Hills\, between Park Hills and Leadwood.</span><br />\n<br />\n<span style="font-size:16px\;">We hope you&#39\;ll plan to join us!!</span><br />\n&nbsp\;
LOCATION:Parkland Pet Cremation Services
UID:e.1642.11502
SEQUENCE:3
DTSTAMP:20260422T133810Z
URL:https://business.phlcoc.net/events/details/multi-chamber-hosted-ribbon-cutting-for-parkland-pet-cremation-services-11502
END:VEVENT

END:VCALENDAR
