BEGIN:VCALENDAR
VERSION:2.0
PRODID:-//ChamberMaster//Event Calendar 2.0//EN
METHOD:PUBLISH
X-PUBLISHED-TTL:P3D
REFRESH-INTERVAL:P3D
CALSCALE:GREGORIAN
BEGIN:VEVENT
DTSTART:20220907T213000Z
DTEND:20220907T214500Z
X-MICROSOFT-CDO-ALLDAYEVENT:FALSE
SUMMARY:Multi-Chamber Hosted Ribbon Cutting for MAC's New Soccer Field
DESCRIPTION:You're invited to a MULTI-CHAMBER-HOSTED RIBBON CUTTING for the new Soccer Field at Mineral Area College!\n\n\n\nThe Park Hills - Leadington\, Desloge\, Bonne Terre & Farmington Chambers of Commerce\, are excited to join forces to celebrate the opening of this new recreational facility at MAC!\n\n\n\nThe Ribbon Cutting will be held on Wednesday\, September 7\, 2022\, at the Soccer Field located at 5270 Flat River Road\, in Park Hills. It will take place between the FIRST Men's and Women's Home Soccer Games. The women play at 3:00 pm and the men start at 5:00 pm. The ribbon cutting will happen at approximately 4:30 p.m. (or immediately following the women's game if it runs later than 4:30). \n\n\n\nWe hope you'll plan to join us!!
X-ALT-DESC;FMTTYPE=text/html:<p>&nbsp\;</p>\n<span style="font-size:16px\;">You&#39\;re invited to a <b>MULTI-CHAMBER-HOSTED RIBBON CUTTING</b>&nbsp\;for the new <strong>Soccer Field</strong> at <strong>Mineral Area College</strong>!<br />\n<br />\nThe Park Hills - Leadington\, Desloge\, Bonne Terre &amp\; Farmington Chambers of Commerce\, are excited to join forces to celebrate the opening of this new recreational facility at MAC!<br />\n<br />\nThe Ribbon Cutting will be held&nbsp\;on Wednesday\, September 7\, 2022\, at the Soccer Field&nbsp\;located at 5270 Flat River Road\, in Park Hills. It will take place between the FIRST Men&#39\;s and Women&#39\;s Home Soccer Games. The women play at 3:00 pm and the men start at 5:00 pm. The ribbon cutting will happen at approximately 4:30 p.m. (or immediately following the women&#39\;s game if it runs later than 4:30).&nbsp\;<br />\n<br />\nWe hope you&#39\;ll plan to join us!!</span><br />\n&nbsp\;
LOCATION:Mineral Area College Soccer Field
UID:e.1642.11191
SEQUENCE:3
DTSTAMP:20260423T155408Z
URL:https://business.phlcoc.net/events/details/multi-chamber-hosted-ribbon-cutting-for-mac-s-new-soccer-field-11191
END:VEVENT

END:VCALENDAR
