BEGIN:VCALENDAR
VERSION:2.0
PRODID:-//ChamberMaster//Event Calendar 2.0//EN
METHOD:PUBLISH
X-PUBLISHED-TTL:P3D
REFRESH-INTERVAL:P3D
CALSCALE:GREGORIAN
BEGIN:VEVENT
DTSTART:20230318T220000Z
DTEND:20230319T030000Z
X-MICROSOFT-CDO-ALLDAYEVENT:FALSE
SUMMARY:Movie Trivia Night
DESCRIPTION:Who's ready for Trivia?!?!?\n\n\n\nHere at the Park Hills - Leadington Chamber of Commerce\, we're gearing up for our Annual Trivia Night!!  BUT\, this year\, we are CHANGING IT ALLLLLLLL UP!!\n\n\n\nInstead of Sweetheart Trivia Night in February\, we're Doing MOVIE TRIVIA NIGHT in MARCH!!! Everything will be movie-themed\; from the questions to the food\, and the prizes to the decor! There's even a "Favorite Movie Cast" Costume Contest!!\n\n\n\nThis year's event is scheduled for March 18th and will be held at the White Magnolia Banquet Hall.  Dinner begins at 5 PM with trivia starting at 6 PM!\nAs always\, a portion of the proceeds will benefit the Chamber Scholarship Fund!\n\n\n\nTHE QUESTIONS\n\nThere will still be 10 rounds of 10 questions but this year\, those questions are all about movies!  Ten different genres of movies to be exact -- Comedy\, Horror\, History\, Rom-Com\, Sci-Fi\, and more!\n\n\n\nWIN - WIN - WIN - AND WIN SOME MORE!\n\nAs with all Chamber Trivia Nights\, there will be numerous chances to win COLD HARD CASH\, along with some PHENOMENAL Door Prizes and Raffle Prizes! Also\, New for 2023\, there will be TABLE PRIZES! WHAT!?!? One winner from every table will win a Fun\, Movie-Themed Prize\, valued at a minimum of $50!\n\n\n\nFULL ON DINNER!\n\nIf you know us\, you know our trivia night is a step above the rest because we include DINNER! Not just pizza\, but food\, and lots of it! This year will be no exception! The menu will include tons of your favorite theater-themed favorites such as hot dogs\, nachos\, pizza\, popcorn\, and pretzels.\n\n\n\nTHE DESSERT AUCTION\n\nThe Chamber's Dessert Auction was originally added as a sweet addition to Sweetheart Trivia but\, it is such a huge crowd favorite\, it simply has to remain a staple of the Park Hills - Leadington Chamber's Trivia Night! We're bringing it back and it's sure to include an incredible amount of delectable desserts that you'll all be fighting over!\n\n\n\nFAMOUS "MOVIE CAST" COSTUME CONTEST\n\nListen up\, Teams!!  This year\, in honor of our theme\, we are hosting a costume contest for the ENTIRE TEAM!!  Put your heads together\, choose the group's most favorite movie and change into character! We have special awards & prizes for the ENTIRE TEAM that is chosen as the crowd favorite! Start planning now!!\n\n\n\nAs always\, your ticket also includes the following:\n\n\n	The Selfie Station!!  Grab your teammates and snap a memory-making selfie in front of the movie-themed backdrop!!  Don't forget to include the hashtag: #PHLCOCTrivia\n	Spectacular 1st\, 2nd\, & 3rd Place Prizes! Brush off your thinking caps! There will be some pretty fun Movie-Themed 1st\, 2nd\, & 3rd place prizes!\n	Raffle Prizes! Take a chance at some outstanding prizes from many of our local businesses!\n	Door Prizes! Historically\, our trivia night is known for having some of the best door prizes... this year will be no different! There will be lots and lots of great gifts given away again this year!\n	Thumbs Up/Thumbs Down! Bring your dollar bills to play for a chance to win half the pot!\n\n\nAs always\, the cost is just $25 per person with as many as 10 people per team. Dinner\, trivia\, prizes\, games\, auctions\, and fun\; all in one night! Don't miss it!\n\n\n\nThe deadline for purchasing tickets is March 13\, 2023!\n\n\n\nBenefiting the Park Hills - Leadington Chamber Scholarship Fund\n\nA portion of your registration fee goes to the Park Hills - Leadington Chamber of Commerce Scholarship Fund.  Providing FOUR graduating\, Central High School Students\, who will be attending one of our local colleges - Mineral Area College\, Central Methodist University\, or Missouri Baptist University - with a $500 scholarship to assist with tuition\, books\, and/or other college necessities.\n\n\n\nPHOTO RELEASE NOTICE: When you attend a Park Hills - Leadington Chamber of Commerce event\, you enter an area where photography\, audio\, and video recording may occur. By entering the event premises\, you waive all rights to any claims for payment or royalties in connection with any use via advertising\, web\, social media\, televising\, or other publication of these materials.  You also waive any right to inspect or approve any photo\, video\, or audio recording taken by the Park Hills - Leadington Chamber of Commerce or the person or entity designated to do so by the Park Hills - Leadington Chamber of Commerce. This notice serves as your consent\, waiver of liability\, and release upon entering the event. Please let our photographer or another staff member know if you prefer not to be photographed. Thank you for attending this Park Hills - Leadington Chamber of Commerce Signature Event!
X-ALT-DESC;FMTTYPE=text/html:<p><br />\n<span style="font-size:16px\;"><span style="font-size:20px\;"><strong>Who&#39\;s ready for Trivia?!?!?</strong></span><br />\n<br />\nHere at the Park Hills - Leadington Chamber of Commerce\, we&#39\;re gearing up for our Annual Trivia Night!!&nbsp\; BUT\, this year\, we are <strong>CHANGING IT ALLLLLLLL UP</strong>!!<br />\n<br />\nInstead of Sweetheart Trivia Night in February\, we&#39\;re Doing <span style="color:#FF0000\;"><strong>MOVIE TRIVIA NIGHT</strong></span> in <span style="color:#FF0000\;"><strong>MARCH</strong></span>!!! Everything will be movie-themed\; from the questions&nbsp\;to the food\, and the prizes to the decor! There&#39\;s even a &quot\;Favorite Movie Cast&quot\; Costume Contest!!<br />\n<br />\nThis year&#39\;s event is scheduled for March 18th and will be held at the White Magnolia Banquet Hall.&nbsp\; Dinner begins&nbsp\;at 5 PM&nbsp\;with trivia starting at 6 PM!</span></p>\n<strong><span style="font-size:16px\;">As always\, a portion of the proceeds will benefit the Chamber Scholarship Fund!</span></strong><br />\n<br />\n<strong style="color: rgb(255\, 0\, 0)\; font-size: 16px\;">THE QUESTIONS</strong><br />\n<span style="font-size: 16px\;">There will still be 10 rounds of 10 questions but this year\, those questions are all about movies!&nbsp\; Ten different genres of movies to be exact -- Comedy\, Horror\, History\, Rom-Com\, Sci-Fi\, and more!</span><br />\n<br />\n<strong style="color: rgb(255\, 0\, 0)\; font-size: 16px\;">WIN - WIN - WIN - AND WIN SOME MORE!</strong><br />\n<span style="font-size: 16px\;">As with all Chamber Trivia Nights\, there will be numerous chances to win </span><strong style="font-size: 16px\;">COLD HARD CASH</strong><span style="font-size: 16px\;">\, along with some </span><strong style="font-size: 16px\;">PHENOMENAL Door Prizes and&nbsp\;Raffle Prizes</strong><span style="font-size: 16px\;">! Also\, New for 2023\, there will be </span><strong style="font-size: 16px\;">TABLE PRIZES! WHAT!?!?</strong><span style="font-size: 16px\;"> One winner from every table will win a Fun\, Movie-Themed Prize\, valued at a minimum of $50!</span><br />\n<br />\n<strong style="color: rgb(255\, 0\, 0)\; font-size: 16px\;">FULL ON DINNER!</strong><br />\n<span style="font-size: 16px\;">If you know us\, you know our trivia night is a step above the rest because we include DINNER! Not just pizza\, but food\, and lots of it! This year will be no exception! The menu will include tons of your favorite theater-themed favorites such as hot dogs\, nachos\, pizza\, popcorn\, and pretzels.</span><br />\n<br />\n<strong style="color: rgb(255\, 0\, 0)\; font-size: 16px\;">THE&nbsp\;DESSERT AUCTION</strong><br />\n<span style="font-size: 16px\;">The Chamber&#39\;s&nbsp\;Dessert Auction was originally added as a sweet addition to Sweetheart Trivia but\, it is such a huge crowd favorite\, it simply has to remain a staple&nbsp\;of the Park Hills - Leadington Chamber&#39\;s Trivia Night! We&#39\;re bringing it back and it&#39\;s sure to include an incredible amount of delectable desserts that you&#39\;ll all be fighting over!</span><br />\n<br />\n<strong style="color: rgb(255\, 0\, 0)\; font-size: 16px\;">FAMOUS &quot\;MOVIE CAST&quot\; COSTUME CONTEST</strong><br />\n<span style="font-size: 16px\;">Listen up\, Teams!!&nbsp\; This year\, in honor of our theme\, we are hosting a costume contest for the </span><strong style="font-size: 16px\;">ENTIRE TEAM</strong><span style="font-size: 16px\;">!!&nbsp\; Put your heads together\, choose the group&#39\;s most favorite movie and change into character!&nbsp\;</span><strong style="font-size: 16px\;">We have special awards &amp\; prizes for the ENTIRE TEAM that is chosen as the crowd favorite! Start planning now!!</strong><br />\n<br />\n<span style="font-size:16px\;">As always\, your ticket also includes the following:</span>\n\n<ul>\n	<li><span style="font-size:16px\;"><strong>The Selfie Station!!&nbsp\;</strong> Grab your teammates&nbsp\;and snap a memory-making&nbsp\;selfie in front of the movie-themed backdrop!!&nbsp\; Don&#39\;t forget to include the hashtag: #PHLCOCTrivia</span></li>\n	<li><span style="font-size:16px\;"><strong>Spectacular 1st\, 2nd\, &amp\; 3rd Place Prizes!</strong> Brush off your thinking caps! There will be some pretty fun Movie-Themed&nbsp\;1st\, 2nd\, &amp\; 3rd place prizes!</span></li>\n	<li><span style="font-size:16px\;"><strong>Raffle Prizes! </strong>Take a chance at some outstanding prizes from many of our local businesses!</span></li>\n	<li><span style="font-size:16px\;"><strong>Door Prizes! </strong>Historically\, our trivia night is known for&nbsp\;having&nbsp\;some of the best door prizes... this year will be no different! There will be lots and lots of great gifts given away again this year!</span></li>\n	<li><span style="font-size:16px\;"><strong>Thumbs Up/Thumbs Down!</strong> Bring your dollar bills to play&nbsp\;for a chance to win half the pot!</span></li>\n</ul>\n\n<p><span style="font-size:16px\;">As always\, the&nbsp\;cost is just $25 per person with as many as 10 people per team. Dinner\, trivia\, prizes\, games\, auctions\, and fun\; all in one night! Don&#39\;t miss it!</span><br />\n<br />\n<span style="color:#FF0000\;"><span style="font-size:18px\;"><strong>The deadline for purchasing tickets is March 13\, 2023!</strong></span></span><br />\n<br />\n<span style="color:#000000\;"><span style="font-size:16px\;"><strong style="color: rgb(255\, 0\, 0)\; font-size: 18px\;">Benefiting the Park Hills - Leadington Chamber Scholarship Fund</strong></span></span><br />\n<span style="font-size:16px\;">A portion of your registration fee goes to the Park Hills - Leadington Chamber of Commerce Scholarship Fund.&nbsp\; Providing&nbsp\;<strong>FOUR</strong>&nbsp\;graduating\, Central High School Students\, who will be attending one of our local colleges - Mineral Area College\, Central Methodist University\, or Missouri Baptist University - with a $500&nbsp\;scholarship to assist with tuition\, books\, and/or other college necessities.</span><br />\n<br />\n<span style="font-size: 10px\;"><strong style="font-size: 9px\;">PHOTO RELEASE NOTICE:</strong>&nbsp\;When you attend a Park Hills - Leadington Chamber of Commerce event\,&nbsp\;you enter an area where photography\, audio\, and video recording may occur. By entering the event premises\, you waive all rights to any claims for payment or royalties in connection with any use via advertising\, web\, social media\, televising\, or other publication of these materials.&nbsp\; You also waive any right to inspect or approve any photo\, video\, or audio recording taken by the Park Hills - Leadington Chamber of Commerce or the person or entity designated to do so by the Park Hills - Leadington Chamber of Commerce. This notice serves as your consent\, waiver of liability\, and release upon entering the event. Please let our photographer or another staff member know if you prefer not to be photographed. Thank you for attending this Park Hills - Leadington Chamber of Commerce Signature Event!</span></p>\n
LOCATION:The White Magnolia Banquet Hall
UID:e.1642.11375
SEQUENCE:3
DTSTAMP:20260423T191507Z
URL:https://business.phlcoc.net/events/details/movie-trivia-night-11375
END:VEVENT

END:VCALENDAR
