BEGIN:VCALENDAR
VERSION:2.0
PRODID:-//ChamberMaster//Event Calendar 2.0//EN
METHOD:PUBLISH
X-PUBLISHED-TTL:P3D
REFRESH-INTERVAL:P3D
CALSCALE:GREGORIAN
BEGIN:VEVENT
DTSTART:20230712T130000Z
DTEND:20230712T140000Z
X-MICROSOFT-CDO-ALLDAYEVENT:FALSE
SUMMARY:Monthly Chamber Board of Directors Meeting
DESCRIPTION:The Park Hills - Leadington Chamber of Commerce Board of Directors meets monthly to discuss chamber business\, finances\, events\, committee updates\, and important legislative issues when needed.\n\n\n\nThese are closed business meetings scheduled for the appointed Chamber of Commerce board members.
X-ALT-DESC;FMTTYPE=text/html:<br />\n<span style="font-size:16px\;">The Park Hills - Leadington Chamber of Commerce Board of Directors meets monthly to discuss chamber business\, finances\, events\, committee updates\, and important legislative issues when needed.<br />\n<br />\nThese are closed business meetings scheduled for the appointed Chamber of Commerce board members.</span>
LOCATION:Park Hills Council Chambers
UID:e.1642.11478
SEQUENCE:3
DTSTAMP:20260422T134118Z
URL:https://business.phlcoc.net/events/details/monthly-chamber-board-of-directors-meeting-07-12-2023-11478
END:VEVENT

END:VCALENDAR
