BEGIN:VCALENDAR
VERSION:2.0
PRODID:-//ChamberMaster//Event Calendar 2.0//EN
METHOD:PUBLISH
X-PUBLISHED-TTL:P3D
REFRESH-INTERVAL:P3D
CALSCALE:GREGORIAN
BEGIN:VEVENT
DTSTART:20240507T223000Z
DTEND:20240508T010000Z
X-MICROSOFT-CDO-ALLDAYEVENT:FALSE
SUMMARY:Money Smart for Small Business
DESCRIPTION:Are you considering starting a business or looking to grow your existing business? \n\nJoin us for the free Money Smart for Small Business courses and gain valuable insight from SEED$ staff and experienced professionals. We'll cover essential topics to get you started and improve your chances of success.\n\nSessions:\n\n\n	Time Management\n	Is Owning a Business Right for You\n	Banking Services\n	Financial Management\n	Tax Planning\n	Selling & Succession\n	Insurance\n	Record Keeping\n	Risk Management\n	Strong Business Credit\n	Managing Cash Flow\n	Planning for a Healthy Business
X-ALT-DESC;FMTTYPE=text/html:<p><span style="font-size:16px\;">Are you considering starting a business or looking to grow your existing business? </span></p>\n\n<p><span style="font-size:16px\;">Join us for the <em>free </em><strong>Money Smart for Small Business</strong> courses and gain valuable insight from SEED$ staff and experienced professionals. We&rsquo\;ll cover essential topics to get you started and improve your chances of success.</span></p>\n\n<p><strong><span style="font-size:16px\;">Sessions:</span></strong></p>\n\n<ul>\n	<li><span style="font-size:16px\;">Time Management</span></li>\n	<li><span style="font-size:16px\;">Is Owning a Business Right for You</span></li>\n	<li><span style="font-size:16px\;">Banking Services</span></li>\n	<li><span style="font-size:16px\;">Financial Management</span></li>\n	<li><span style="font-size:16px\;">Tax Planning</span></li>\n	<li><span style="font-size:16px\;">Selling &amp\; Succession</span></li>\n	<li><span style="font-size:16px\;">Insurance</span></li>\n	<li><span style="font-size:16px\;">Record Keeping</span></li>\n	<li><span style="font-size:16px\;">Risk Management</span></li>\n	<li><span style="font-size:16px\;">Strong Business Credit</span></li>\n	<li><span style="font-size:16px\;">Managing Cash Flow</span></li>\n	<li><span style="font-size:16px\;">Planning for a Healthy Business</span></li>\n</ul>\n
LOCATION:
UID:e.1642.12115
SEQUENCE:3
DTSTAMP:20260425T114359Z
URL:https://business.phlcoc.net/events/details/money-smart-for-small-business-05-07-2024-12115
END:VEVENT

END:VCALENDAR
