BEGIN:VCALENDAR
VERSION:2.0
PRODID:-//ChamberMaster//Event Calendar 2.0//EN
METHOD:PUBLISH
X-PUBLISHED-TTL:P3D
REFRESH-INTERVAL:P3D
CALSCALE:GREGORIAN
BEGIN:VEVENT
DTSTART:20240913T230000Z
DTEND:20240914T020000Z
X-MICROSOFT-CDO-ALLDAYEVENT:FALSE
SUMMARY:Modern Yesterday Duo LIVE at Fyre Lake Winery
DESCRIPTION:Get ready for an unforgettable evening of music\, wine\, and fun at Fyre Lake Winery! We're thrilled to announce that the talented local duo\, Modern Yesterday\, will be performing live on Friday\, September 13th from 6-9 PM.\n\n\n\nModern Yesterday is a dynamic and energetic duo that knows how to get the crowd moving and grooving. With their unique blend of modern and classic tunes\, they'll have you up and dancing in no time. Their infectious energy and impressive musicianship will make this a night to remember.\n\n\n\nNestled in the picturesque town of Cadet\, Missouri\, Fyre Lake Winery is a hidden gem that offers a unique blend of exceptional wines and breathtaking scenery. With its stunning lakeside setting and large event pavilion\, this family-friend owned winery provides the perfect backdrop for a day of indulgence and relaxation.
X-ALT-DESC;FMTTYPE=text/html:<br />\n<span style="color:rgb(69\, 75\, 89)\; font-family:work sans\,sans-serif\; font-size:16px">Get ready for an unforgettable evening of music\, wine\, and fun at Fyre Lake Winery! We&#39\;re thrilled to announce that the talented local duo\, Modern Yesterday\, will be performing live on Friday\, September 13th from 6-9 PM.</span><br />\n<br />\n<span style="color:rgb(69\, 75\, 89)\; font-family:work sans\,sans-serif\; font-size:16px">Modern Yesterday is a dynamic and energetic duo that knows how to get the crowd moving and grooving. With their unique blend of modern and classic tunes\, they&#39\;ll have you up and dancing in no time. Their infectious energy and impressive musicianship will make this a night to remember.</span><br />\n<br />\n<em>Nestled in the picturesque town of Cadet\, Missouri\, Fyre Lake Winery is a hidden gem that offers a unique blend of exceptional wines and breathtaking scenery. With its stunning lakeside setting and large event pavilion\, this family-friend owned winery provides the perfect backdrop for a day of indulgence and relaxation.</em><br />\n&nbsp\;
LOCATION:Fyre Lake Winery
UID:e.1642.12714
SEQUENCE:3
DTSTAMP:20260419T191658Z
URL:https://business.phlcoc.net/events/details/modern-yesterday-duo-live-at-fyre-lake-winery-09-13-2024-12714
END:VEVENT

END:VCALENDAR
