BEGIN:VCALENDAR
VERSION:2.0
PRODID:-//ChamberMaster//Event Calendar 2.0//EN
METHOD:PUBLISH
X-PUBLISHED-TTL:P3D
REFRESH-INTERVAL:P3D
CALSCALE:GREGORIAN
BEGIN:VEVENT
DTSTART:20240503T233000Z
DTEND:20240504T020000Z
X-MICROSOFT-CDO-ALLDAYEVENT:FALSE
SUMMARY:Mineral Area Fine Arts Academy Presents: Romeo and Juliet
DESCRIPTION:Mineral Area Fine Arts Academy is thrilled to announce the upcoming performances of Shakespeare's timeless tragedy\, "Romeo and Juliet\," at the Mineral Area College Fine Arts Theatre in Park Hills\, Missouri. This production brings to life the poignant story of two young lovers whose deaths ultimately reconcile their feuding families.\n\n\n\nPerformance Dates and Times:\n\n	May 3\, 2024: 6:30 PM\n	May 4\, 2024: 6:30 PM\n	May 5\, 2024: 3:00 PM\n\nTicket Information:\n\n\n	Price: $10 per person\n	Tickets can be purchased online at https://www.mineralareafineartsacademy.com/theater-productions\n\nLocation:\n\n\n	Mineral Area College Fine Arts Theatre\n	5270 Flat River Rd\, Park Hills\, MO 63601\n\nAbout the Play:\n\n"Romeo and Juliet" explores the devastating effects of longstanding hatred between two prestigious families in Verona\, Italy. The play opens with a brawl caused by the rivalry\, which sets the stage for the tragic love story. Romeo Montague and Juliet Capulet fall deeply in love at a masked ball. Despite the danger\, they vow to be together and are secretly married the next day. However\, the feud between their families leads to heartbreak and a tragic sequence of events\, culminating in both lovers' deaths.\n\n\n\nThis production at the Mineral Area Fine Arts Academy promises to be a compelling rendition of Shakespeare's work\, featuring talented local actors and a dedicated crew. The play\, directed by seasoned professionals\, will capture the dramatic intensity and emotional depth of this age-old story.\n\n\n\nAdditional Information:\n\nFor those requiring special accommodations\, please contact the venue ahead of time to ensure a comfortable and enjoyable experience. Viewer discretion is advised due to the adult themes of the play.\n\n\n\nWe invite all community members and visitors to experience this classic play that continues to resonate with audiences around the world. Don't miss this opportunity to enjoy a spectacular evening of theatre right here in Park Hills.\n\n\n\nFor further details\, please visit our website or contact the box office. Join us for a memorable performance that promises to be both enchanting and thought-provoking.
X-ALT-DESC;FMTTYPE=text/html:<br />\n<span style="font-size:16px\;">Mineral Area Fine Arts Academy is thrilled to announce the upcoming performances of Shakespeare&#39\;s timeless tragedy\, &quot\;Romeo and Juliet\,&quot\; at the Mineral Area College Fine Arts Theatre in Park Hills\, Missouri. This production brings to life the poignant story of two young lovers whose deaths ultimately reconcile their feuding families.<br />\n<br />\n<strong>Performance Dates and Times:</strong></span>\n<ul>\n	<li><span style="font-size:16px\;">May 3\, 2024: 6:30 PM</span></li>\n	<li><span style="font-size:16px\;">May 4\, 2024: 6:30 PM</span></li>\n	<li><span style="font-size:16px\;">May 5\, 2024: 3:00 PM</span></li>\n</ul>\n<span style="font-size:16px\;"><strong>Ticket Information:</strong></span>\n\n<ul>\n	<li><span style="font-size:16px\;"><strong>Price</strong>: $10 per person</span></li>\n	<li><span style="font-size:16px\;">Tickets can be purchased online at <a href="https://www.mineralareafineartsacademy.com/theater-productions">https://www.mineralareafineartsacademy.com/theater-productions</a></span></li>\n</ul>\n<span style="font-size:16px\;"><strong>Location:</strong></span>\n\n<ul>\n	<li><span style="font-size:16px\;">Mineral Area College Fine Arts Theatre</span></li>\n	<li><span style="font-size:16px\;">5270 Flat River Rd\, Park Hills\, MO 63601</span></li>\n</ul>\n<span style="font-size:16px\;"><strong>About the Play:</strong><br />\n&quot\;Romeo and Juliet&quot\; explores the devastating effects of longstanding hatred between two prestigious families in Verona\, Italy. The play opens with a brawl caused by the rivalry\, which sets the stage for the tragic love story. Romeo Montague and Juliet Capulet fall deeply in love at a masked ball. Despite the danger\, they vow to be together and are secretly married the next day. However\, the feud between their families leads to heartbreak and a tragic sequence of events\, culminating in both lovers&#39\; deaths.<br />\n<br />\nThis production at the Mineral Area Fine Arts Academy promises to be a compelling rendition of Shakespeare&#39\;s work\, featuring talented local actors and a dedicated crew. The play\, directed by seasoned professionals\, will capture the dramatic intensity and emotional depth of this age-old story.<br />\n<br />\n<strong>Additional Information:</strong><br />\nFor those requiring special accommodations\, please contact the venue ahead of time to ensure a comfortable and enjoyable experience. Viewer discretion is advised due to the adult themes of the play.<br />\n<br />\nWe invite all community members and visitors to experience this classic play that continues to resonate with audiences around the world. Don&#39\;t miss this opportunity to enjoy a spectacular evening of theatre right here in Park Hills.<br />\n<br />\nFor further details\, please visit our website or contact the box office. Join us for a memorable performance that promises to be both enchanting and thought-provoking.</span>
LOCATION:Mineral Area College Fine Arts Theatre
UID:e.1642.12562
SEQUENCE:3
DTSTAMP:20260425T131941Z
URL:https://business.phlcoc.net/events/details/mineral-area-fine-arts-academy-presents-romeo-and-juliet-12562
END:VEVENT

END:VCALENDAR
