BEGIN:VCALENDAR
VERSION:2.0
PRODID:-//ChamberMaster//Event Calendar 2.0//EN
METHOD:PUBLISH
X-PUBLISHED-TTL:P3D
REFRESH-INTERVAL:P3D
CALSCALE:GREGORIAN
BEGIN:VEVENT
DTSTART:20240503T140000Z
DTEND:20240503T163000Z
X-MICROSOFT-CDO-ALLDAYEVENT:FALSE
SUMMARY:Living a Healthy Life
DESCRIPTION:Let's make small changes to our routines\, habits\, and physical activities to improve our lives in this FREE workshop!\n\n\n\nFridays\, April 12 - May 17\, 9 a.m. to 11:30 a.m. at the Weber Road Facility\, 1101 Weber Road\, Farmington\, MO.\n\n\n\nFor more information and to register\, call the St. Francois County Health Center at 573-431-1947.\n\n\n\nParticipants will receive a FREE Living a Healthy Life with Chronic Conditions book and Relaxation for the Mind and Body CD.
X-ALT-DESC;FMTTYPE=text/html:<br />\n<span style="font-size:16px">Let&#39\;s make small changes to our routines\, habits\, and physical activities to improve our lives in this<strong> FREE workshop</strong>!<br />\n<br />\nFridays\, April 12 - May 17\, 9 a.m. to 11:30 a.m. at the Weber Road Facility\, 1101 Weber Road\, Farmington\, MO.<br />\n<br />\nFor more information and to register\, call the St. Francois County Health Center at 573-431-1947.<br />\n<br />\nParticipants will receive a <strong>FREE</strong> <em>Living a Healthy Life with Chronic Conditions </em>book and <em>Relaxation for the Mind and Body </em>CD.</span>
LOCATION:University of Missouri\, Weber Road Facility
UID:e.1642.12524
SEQUENCE:3
DTSTAMP:20260425T114400Z
URL:https://business.phlcoc.net/events/details/living-a-healthy-life-05-03-2024-12524
END:VEVENT

END:VCALENDAR
