BEGIN:VCALENDAR
VERSION:2.0
PRODID:-//ChamberMaster//Event Calendar 2.0//EN
METHOD:PUBLISH
X-PUBLISHED-TTL:P3D
REFRESH-INTERVAL:P3D
CALSCALE:GREGORIAN
BEGIN:VEVENT
DTSTART;VALUE=DATE:20200920
DTEND;VALUE=DATE:20200921
TRANSP:TRANSPARENT
X-MICROSOFT-CDO-ALLDAYEVENT:TRUE
SUMMARY:Leadbelt National Enduro
DESCRIPTION:St. Joe State Park 2020 Special Events\n\n\n\nUse the Missouri Mines State Historic Site Entrance.  This motorcycle-only event will determine who can maneuver the course within a designated time frame.  Sponsored by Missouri Mudders   nepg.com or momudders.com or Mike Silger - 636.639.6373. The ORV Riding Area will open for general riding at 2 PM.\n\n\n\nNOTICE TO ALL PARK USERS\n\nPortions of the Bicycle Trails\, the Horse Trails\, and/or the Off-Road Vehicle Riding Area may be closed due to a Special Event.
X-ALT-DESC;FMTTYPE=text/html:<span style="font-size:14px"><strong>St. Joe State Park 2020 Special Events</strong><br />\n<br />\nUse the Missouri Mines State Historic Site Entrance.&nbsp\; This motorcycle-only event will determine who can maneuver the course within a designated time frame.&nbsp\; Sponsored by Missouri Mudders &ndash\; <a href="http://nepg.com">nepg.com</a> or <a href="http://momudders.com">momudders.com</a> or Mike Silger - 636.639.6373. The ORV Riding Area will open for general riding at 2 PM.<br />\n<br />\n<strong>NOTICE TO ALL PARK USERS</strong><br />\nPortions of the Bicycle Trails\, the Horse Trails\, and/or the Off-Road Vehicle Riding Area may be closed due to a Special Event.&nbsp\;</span>
LOCATION:St. Joe State Park
UID:e.1642.10142
SEQUENCE:3
DTSTAMP:20260420T220449Z
URL:https://business.phlcoc.net/events/details/leadbelt-national-enduro-10142
END:VEVENT

END:VCALENDAR
