BEGIN:VCALENDAR
VERSION:2.0
PRODID:-//ChamberMaster//Event Calendar 2.0//EN
METHOD:PUBLISH
X-PUBLISHED-TTL:P3D
REFRESH-INTERVAL:P3D
CALSCALE:GREGORIAN
BEGIN:VEVENT
DTSTART:20240421T180000Z
DTEND:20240421T220000Z
X-MICROSOFT-CDO-ALLDAYEVENT:FALSE
SUMMARY:John Jarrett Music Returns to Fyre Lake Winery for an Unforgettable Performance
DESCRIPTION:Cadet\, MO - Acclaimed American singer-songwriter and guitarist\, John Jarrett\, is set to grace the stage once again at Fyre Lake Winery\, promising an evening of captivating music and entertainment. With a musical journey spanning back to 1995\, John Jarrett is not only a seasoned musician but also a master at engaging and energizing audiences with his dynamic performances.\n\n\n\nAs the lead singer of the band Bacon\, John Jarrett brings a unique blend of talent and charisma to the stage\, creating an atmosphere that resonates with fans of all ages. His passion for music is evident in every note he plays\, making each performance a memorable experience for all in attendance.\n\n\n\nJoin us at Fyre Lake Winery for an enchanting night filled with John Jarrett's soulful melodies and electrifying guitar skills. Don't miss this opportunity to witness a true artist in action at one of Cadet's premier entertainment venues.\n\n\n\nAbout Fyre Lake Winery:\n\nLocated in the heart of Cadet\, MO\, Fyre Lake Winery offers a picturesque setting where guests can indulge in exquisite wines while enjoying live music performances. With a commitment to providing a memorable experience for wine enthusiasts and music lovers alike\, Fyre Lake Winery stands as a beacon of culture and relaxation in the local community.
X-ALT-DESC;FMTTYPE=text/html:<br />\n<span style="font-size:16px\;"><strong>Cadet\, MO -</strong> Acclaimed American singer-songwriter and guitarist\, John Jarrett\, is set to grace the stage once again at Fyre Lake Winery\, promising an evening of captivating music and entertainment. With a musical journey spanning back to 1995\, John Jarrett is not only a seasoned musician but also a master at engaging and energizing audiences with his dynamic performances.<br />\n<br />\nAs the lead singer of the band Bacon\, John Jarrett brings a unique blend of talent and charisma to the stage\, creating an atmosphere that resonates with fans of all ages. His passion for music is evident in every note he plays\, making each performance a memorable experience for all in attendance.<br />\n<br />\nJoin us at Fyre Lake Winery for an enchanting night filled with John Jarrett&#39\;s soulful melodies and electrifying guitar skills. Don&#39\;t miss this opportunity to witness a true artist in action at one of Cadet&#39\;s premier entertainment venues.<br />\n<br />\n<strong>About Fyre Lake Winery:</strong><br />\n<em>Located in the heart of Cadet\, MO\, Fyre Lake Winery offers a picturesque setting where guests can indulge in exquisite wines while enjoying live music performances. With a commitment to providing a memorable experience for wine enthusiasts and music lovers alike\, Fyre Lake Winery stands as a beacon of culture and relaxation in the local community.</em></span>
LOCATION:Fyre Lake Winery
UID:e.1642.12098
SEQUENCE:3
DTSTAMP:20260425T131850Z
URL:https://business.phlcoc.net/events/details/john-jarrett-music-returns-to-fyre-lake-winery-for-an-unforgettable-performance-12098
END:VEVENT

END:VCALENDAR
