BEGIN:VCALENDAR
VERSION:2.0
PRODID:-//ChamberMaster//Event Calendar 2.0//EN
METHOD:PUBLISH
X-PUBLISHED-TTL:P3D
REFRESH-INTERVAL:P3D
CALSCALE:GREGORIAN
BEGIN:VEVENT
DTSTART:20230321T170000Z
DTEND:20230321T180000Z
X-MICROSOFT-CDO-ALLDAYEVENT:FALSE
SUMMARY:Investor Meeting - March 21\, 2023
DESCRIPTION:You're invited to the March Investor Meeting!\n\n\n\nPlease join us on Tuesday\, March 21\, 2023\, at 12:00 p.m. at The White Magnolia Banquet Hall in Leadington!\n\n\n\nThis Month's Program:\n\nThis month's agenda will feature Sue Wallace and SCORE. SCORE\, the nation's largest network of volunteer\, expert business mentors\, is dedicated to helping small businesses get off the ground\, grow and achieve their goals. Since 1964\, we have provided education and mentorship to more than 11 million entrepreneurs. SCORE provides a wide range of services to established and budding business owners alike\, including Free Mentoring\, Webinars & Courses on Demand\, a Library of Online Resources\, and Local Webinars & Workshops.\n\n\n\nThis Month's "Center Stage Investor":\n\nParkland Health Mart Pharmacy! Parkland Health Mart Pharmacy specializes in serving our community with fast\, friendly\, professional service and the highest-quality medicines and health products. You'll always work with somebody at our pharmacy who greets you by name\, and our pharmacists take the time to counsel you and answer your questions. Visit us for all your healthcare needs! Join us at their location on FRIDAY for an After Work Social event and then learn more about them as they take Center Stage for a 3-minute commercial at this month's Investor Meeting!\n\nThis Month's Menu:\n\nCatered by Glenda Straughn and includes Taco Soup\, Sub Sandwiches\, Chicken Salad Sandwiches\, Chips w/Cheese\, Dessert\, Tea\, & Water.\n\n\n\n**IMPORTANT - LUNCH POLICY**\n\n\n	Lunch must be purchased in advance.\n	Reservations are REQUIRED BY NOON on FRIDAY\, FEBRUARY 10\, 2023.\n	For catering purposes\, NO LATE LUNCH RESERVATIONS will be accepted.\n	Investors may request to be invoiced\, however\, payment will still be expected for any invoiced reservations that are not canceled by FRIDAY\, FEBRUARY 10\, 2023 AT NOON.\n	Payment is expected AT REGISTRATION TIME for all NON-Chamber Investors.\n\n\nPurchase Your 50/50 Tickets With Registration!\n\n\n	Tickets for the 50/50 drawing are now available for purchase when making your reservations! You may choose to purchase individual tickets for $1 each or 6 tickets for $5.\n	The winning ticket will be drawn on the day of the Investor Meeting. The winner will receive 1/2 of all 50/50 money collected.\n	50/50 Tickets are an optional purchase. You are not required to participate.\n\n\nIf your schedule changes last minute and you are unable to attend\, we encourage you to send a guest to attend in your absence.  A reservation count\, including yours\, is sent to the caterer at 12 NOON the Friday before the event\, therefore\, payment is required.\n\n\n\nMonthly investor meetings provide Chamber investors with a variety of information through guest speakers.  Topics range from small business information to governmental issues and assistance to community interests.  Monthly meetings keep investors abreast of current chamber happenings and provide an excellent networking opportunity.\n\n\n\nPHOTO RELEASE NOTICE: When you attend a Park Hills - Leadington Chamber of Commerce event\, you enter an area where photography\, audio\, and video recording may occur. By entering the event premises\, you waive all rights to any claims for payment or royalties in connection with any use via advertising\, web\, social media\, televising\, or other publication of these materials.  You also waive any right to inspect or approve any photo\, video\, or audio recording taken by the Park Hills - Leadington Chamber of Commerce or the person or entity designated to do so by the Park Hills - Leadington Chamber of Commerce. This notice serves as your consent\, waiver of liability\, and release upon entering the event. Please let our photographer or another staff member know if you prefer not to be photographed. Thank you for attending this Park Hills - Leadington Chamber of Commerce Signature Event!\n\n\n\n*Pictured Sue Wallace
X-ALT-DESC;FMTTYPE=text/html:<p><span style="font-size:16px\;"><span style="font-size:18px\;"><strong>You&#39\;re invited to the March&nbsp\;Investor Meeting!</strong></span><br />\n<br />\nPlease join us&nbsp\;on Tuesday\, March 21\, 2023\, at&nbsp\;12:00 p.m.&nbsp\;at The White Magnolia Banquet Hall in Leadington!<br />\n<br />\n<strong>This Month&#39\;s Program:</strong><br />\nThis month&#39\;s agenda will feature <strong>Sue Wallace and SCORE</strong>. SCORE\, the nation&rsquo\;s largest network of volunteer\, expert business mentors\, is dedicated to helping small businesses get off the ground\, grow and achieve their goals. Since 1964\, we have provided education and mentorship to more than 11 million entrepreneurs.&nbsp\;SCORE provides a wide range of services to established and budding business owners alike\, including Free Mentoring\, Webinars &amp\; Courses on Demand\, a Library of Online Resources\, and Local Webinars &amp\; Workshops.</span><br />\n<br />\n<span style="font-size:16px\;"><strong>This Month&#39\;s &quot\;Center Stage Investor&quot\;:</strong><br />\n<strong>Parkland Health Mart Pharmacy!&nbsp\;</strong>Parkland Health Mart Pharmacy specializes in serving our community with fast\, friendly\, professional service and the highest-quality medicines and health products. You&#39\;ll always work with somebody at our pharmacy who greets you by name\, and our pharmacists take the time to counsel you and answer your questions. Visit us for all your healthcare needs!&nbsp\;Join us at their location on FRIDAY for an After Work Social event and then learn more about them as they take Center Stage for a 3-minute commercial at&nbsp\;this month&#39\;s Investor Meeting!</span></p>\n\n<p><span style="font-size:16px\;"><strong>This Month&#39\;s Menu:</strong><br />\nCatered by Glenda Straughn and includes Taco Soup\, Sub Sandwiches\, Chicken Salad Sandwiches\, Chips w/Cheese\, Dessert\, Tea\, &amp\; Water.</span></p>\n\n<p font-size:="" work=""><br />\n<strong><span style="font-size:16px\;">**IMPORTANT -&nbsp\;LUNCH POLICY**</span></strong></p>\n\n<ul font-size:="" work="">\n	<li><span style="font-size:16px\;">Lunch must be purchased in advance.</span></li>\n	<li><span style="font-size:16px\;">Reservations are&nbsp\;<strong>REQUIRED BY NOON&nbsp\;on&nbsp\;FRIDAY\, FEBRUARY 10\, 2023</strong>.</span></li>\n	<li><span style="font-size:16px\;">For catering purposes\,&nbsp\;<strong>NO LATE LUNCH RESERVATIONS</strong>&nbsp\;will be accepted.</span></li>\n	<li><span style="font-size:16px\;">Investors may request to be invoiced\, however\,&nbsp\;payment will still be expected&nbsp\;for any invoiced&nbsp\;reservations that are not canceled by&nbsp\;<strong>FRIDAY\,&nbsp\;FEBRUARY 10\, 2023&nbsp\;AT NOON</strong>.</span></li>\n	<li><span style="font-size:16px\;">Payment is expected&nbsp\;<strong>AT REGISTRATION TIME</strong>&nbsp\;for all&nbsp\;<strong>NON-Chamber Investors</strong>.</span></li>\n</ul>\n\n<p font-size:="" work=""><strong><span style="font-size:16px\;">Purchase Your 50/50 Tickets With Registration!</span></strong></p>\n\n<ul font-size:="" work="">\n	<li><span style="font-size:16px\;">Tickets for the 50/50 drawing&nbsp\;are now&nbsp\;available for purchase when making your reservations! You may choose to purchase individual tickets for $1 each or 6 tickets for $5.</span></li>\n	<li><span style="font-size:16px\;">The winning ticket will be drawn on the day of the Investor Meeting. The winner will receive 1/2 of all 50/50 money collected.</span></li>\n	<li><span style="font-size:16px\;">50/50 Tickets are an optional purchase. You are not required to participate.</span></li>\n</ul>\n\n<p><span style="font-size:16px\;">If your schedule changes last minute and you are unable to attend\, we encourage you to send a guest to attend in your absence.&nbsp\; A reservation count\, including yours\,&nbsp\;is sent to the caterer at 12 NOON the Friday before the event\, therefore\, payment is required.</span><br />\n<br />\n<span style="font-size:12px\;">Monthly investor meetings provide Chamber investors with a variety of information through guest speakers.&nbsp\; Topics range from small business information to governmental issues and assistance to community interests.&nbsp\; Monthly meetings keep investors abreast of current chamber happenings and provide an excellent networking opportunity.</span><br />\n<br />\n<span style="font-size:9px\;"><strong>PHOTO RELEASE NOTICE:</strong>&nbsp\;When you attend a Park Hills - Leadington Chamber of Commerce event\,&nbsp\;you enter an area where photography\, audio\, and video recording may occur. By entering the event premises\, you waive all rights to any claims for payment or royalties in connection with any use via advertising\, web\, social media\, televising\, or other publication of these materials.&nbsp\; You also waive any right to inspect or approve any photo\, video\, or audio recording taken by the Park Hills - Leadington Chamber of Commerce or the person or entity designated to do so by the Park Hills - Leadington Chamber of Commerce. This notice serves as your consent\, waiver of liability\, and release upon entering the event. Please let our photographer or another staff member know if you prefer not to be photographed. Thank you for attending this Park Hills - Leadington Chamber of Commerce Signature Event!</span><br />\n<br />\n<em><span style="font-size:14px\;">*Pictured Sue Wallace</span></em></p>\n
LOCATION:The White Magnolia Banquet Hall
UID:e.1642.11392
SEQUENCE:3
DTSTAMP:20260423T202205Z
URL:https://business.phlcoc.net/events/details/investor-meeting-march-21-2023-11392
END:VEVENT

END:VCALENDAR
