BEGIN:VCALENDAR
VERSION:2.0
PRODID:-//ChamberMaster//Event Calendar 2.0//EN
METHOD:PUBLISH
X-PUBLISHED-TTL:P3D
REFRESH-INTERVAL:P3D
CALSCALE:GREGORIAN
BEGIN:VEVENT
DTSTART:20221213T180000Z
DTEND:20221213T193000Z
X-MICROSOFT-CDO-ALLDAYEVENT:FALSE
SUMMARY:Holiday Investor Meeting - December 13\, 2022
DESCRIPTION:The December Investor Meeting is a Special Holiday Meeting!  This meeting will be held at The White Magnolia Banquet Hall\, will be held One Week Earlier than Usual\, and will last 1/2 Hour Longer than Regular Investor Meetings! \n\nJoin us for a special Chamber "Holiday" Investor Meeting on December 13\, 2022\, at 12:00 p.m. at The White Magnolia Banquet Hall in Leadington.  \n\n\n\nHOLIDAY FUN!!  This year\, we're doing a FUN HOLIDAY GIFT EXCHANGE GAME!  Bring a WRAPPED WHITE ELEPHANT GIFT valued at no more than $25! Bring something that's homemade\, funny\, gaudy\, used\, interesting\, odd\, or off-the-wall. Something you have\, but can't seem to get rid of! Make it fun\, funny\, and interesting all at the same time!!\n\n\n\nAlso this month\, if you bring a donation for the Chamber Cares Holiday Drive\, your lunch is on us!! Bring a donation\, valued at $10 or more\, to include things such as Disposable Plates\, Bowls\, Cups\, Forks\, Spoons\, Napkins\, Paper Towels\, or Toilet Paper\, and you'll enjoy your lunch for free! Monetary donations may also be made in lieu of product donations. All supplies and proceeds benefit the Uplift Overnight Shelter!\n\n\n\nWhen registering\, choose from the following options:\n\n\n	Supplies Donation on the Day of the Meeting\n	$10 Cash Donation\n	$25 Cash Donation\n	$50 Cash Donation\n	$100 Cash Donation\n\n\nAll donation options include your lunch\, free of charge at the meeting!\n\n\n\nLunch Catered by Glenda Straughn: Lunch includes Pizza\, Wings\, Toasted Ravioli\, Salad\, tea\, lemonade\, and dessert.\n\n \nRESERVATIONS REQUIRED!\n\n\n\nPHOTO RELEASE NOTICE: When you attend a Park Hills - Leadington Chamber of Commerce event\,  you enter an area where photography\, audio\, and video recording may occur. By entering the event premises\, you waive all rights to any claims for payment or royalties in connection with any use via advertising\, web\, social media\, televising\, or other publication of these materials.  You also waive any right to inspect or approve any photo\, video\, or audio recording taken by the Park Hills - Leadington Chamber of Commerce or the person or entity designated to do so by the Park Hills - Leadington Chamber of Commerce. This notice serves as your consent\, waiver of liability\, and release upon entering the event. Please let our photographer or another staff member know if you prefer not to be photographed. Thank you for attending this Park Hills - Leadington Chamber of Commerce Signature Event!\n\n\n\nMonthly investor meetings provide Chamber investors with a variety of information through guest speakers.  Topics range from small business information to governmental issues and assistance to community interests.  Monthly meetings keep investors abreast of current chamber happenings and provide an excellent networking opportunity.
X-ALT-DESC;FMTTYPE=text/html:<p><br />\n<span style="font-size:16px\;">The December Investor Meeting is a&nbsp\;<strong>Special Holiday Meeting</strong>!&nbsp\; This meeting will be held at&nbsp\;<strong>The White Magnolia Banquet Hall\,&nbsp\;</strong>will be held <strong>One Week Earlier than Usual</strong>\, and will last&nbsp\;<strong>1/2 Hour Longer than Regular Investor Meetings</strong>!&nbsp\;</span></p>\n\n<p _mce_style="color: #595500\;"><span style="font-size:16px\;">Join us for a special Chamber &quot\;<em>Holiday</em>&quot\; Investor Meeting on December 13\, 2022\, at 12:00 p.m. at The White Magnolia Banquet Hall in Leadington.&nbsp\;&nbsp\;</span><br />\n<br />\n<strong style="font-size: 16px\;">HOLIDAY FUN!!&nbsp\;</strong><span style="font-size: 16px\;">&nbsp\;This year\, we&#39\;re doing a&nbsp\;</span><strong style="font-size: 16px\;">FUN HOLIDAY&nbsp\;GIFT EXCHANGE GAME</strong><span style="font-size: 16px\;">!&nbsp\; Bring a&nbsp\;</span><strong style="font-size: 16px\;">WRAPPED&nbsp\;<span style="color: rgb(255\, 0\, 0)\;"><u>WHITE ELEPHANT GIFT</u></span></strong><span style="font-size: 16px\;">&nbsp\;</span><strong style="font-size: 16px\;">valued at no more than $25</strong><span style="font-size:16px\;">! Bring something that&#39\;s homemade\, funny\, gaudy\, used\, interesting\, odd\, or off-the-wall. Something you have\, but can&#39\;t seem to get rid of! Make it fun\, funny\, and interesting all at the same time!!<br />\n<br />\n<span style="box-sizing: border-box\;">Also this month\, if you bring a donation for the Chamber Cares Holiday Drive\, your lunch is on us!! <strong>Bring a donation\, valued at $10 or more</strong>\, to include things such as Disposable Plates\, Bowls\, Cups\, Forks\, Spoons\, Napkins\, Paper Towels\, or Toilet Paper\,&nbsp\;and <strong>you&#39\;ll enjoy your lunch for free</strong>! Monetary donations may also be made in lieu of product donations. <strong>All supplies and proceeds benefit the Uplift Overnight Shelter</strong>!<br />\n<br />\n<strong>When registering\, choose from the following options:</strong></span></span></p>\n\n<ul>\n	<li><span style="font-size:16px\;">Supplies Donation on the Day of the Meeting</span></li>\n	<li><span style="font-size:16px\;">$10 Cash Donation</span></li>\n	<li><span style="font-size:16px\;">$25 Cash Donation</span></li>\n	<li><span style="font-size:16px\;">$50 Cash Donation</span></li>\n	<li><span style="font-size:16px\;">$100 Cash Donation</span></li>\n</ul>\n\n<div font-size:="" style="box-sizing: border-box\; margin: 0px 0px 1rem\; outline: 0px\; color: rgb(69\, 75\, 89)\;" work=""><span style="font-size:16px\;"><span style="box-sizing: border-box\;"><strong>All donation options include your lunch\, free of charge at the meeting!</strong><br />\n<br />\n<strong>Lunch Catered by Glenda Straughn</strong>: Lunch includes&nbsp\;Pizza\, Wings\, Toasted Ravioli\, Salad\, tea\, lemonade\, and dessert.</span></span><br />\n&nbsp\;</div>\n<span style="font-size:16px\;"><strong><span style="color: rgb(255\, 0\, 0)\;">RESERVATIONS REQUIRED!</span></strong></span><br />\n<br />\n<strong style="font-size: 12px\;">PHOTO RELEASE NOTICE:</strong><span style="font-size: 12px\;">&nbsp\;When you attend a Park Hills - Leadington Chamber of Commerce event\,&nbsp\; you enter an area where photography\, audio\, and video recording may occur. By entering the event premises\, you waive all rights to any claims for payment or royalties in connection with any use via advertising\, web\, social media\, televising\, or other publication of these materials.&nbsp\; You also waive any right to inspect or approve any photo\, video\, or audio recording taken by the Park Hills - Leadington Chamber of Commerce or the person or entity designated to do so by the Park Hills - Leadington Chamber of Commerce. This notice serves as your consent\, waiver of liability\, and release upon entering the event. Please let our photographer or another staff member know if you prefer not to be photographed. Thank you for attending this Park Hills - Leadington Chamber of Commerce Signature Event!</span><br />\n<br />\n<em><span style="font-family: calibri\, sans-serif\;">Monthly investor meetings provide Chamber investors with a variety of information through guest speakers.&nbsp\; Topics range from small business information to governmental issues and assistance to community interests.&nbsp\; Monthly meetings keep investors abreast of current chamber happenings and provide an excellent networking opportunity.</span></em>
LOCATION:The White Magnolia Banquet Hall
UID:e.1642.11297
SEQUENCE:3
DTSTAMP:20260423T161238Z
URL:https://business.phlcoc.net/events/details/holiday-investor-meeting-december-13-2022-11297
END:VEVENT

END:VCALENDAR
