BEGIN:VCALENDAR
VERSION:2.0
PRODID:-//ChamberMaster//Event Calendar 2.0//EN
METHOD:PUBLISH
X-PUBLISHED-TTL:P3D
REFRESH-INTERVAL:P3D
CALSCALE:GREGORIAN
BEGIN:VEVENT
DTSTART:20230327T190000Z
DTEND:20230327T193000Z
X-MICROSOFT-CDO-ALLDAYEVENT:FALSE
SUMMARY:Groundbreaking for the Park Hills Aquatic Center
DESCRIPTION:The next step toward the reality of a new Aquatic Center in Park Hills is ready to happen! We would like to invite you to join us for a Groundbreaking Ceremony on Monday\, March 27\, 2023\, at 2:00 p.m. in Columbia Park. Mark your calendars and join us for this super exciting event!!.
X-ALT-DESC;FMTTYPE=text/html:<br />\n<br />\n<span style="font-size:16px\;">The next step toward the reality of a new <strong>Aquatic Center in Park Hills</strong> is ready to happen! We would like to invite you to join us for a Groundbreaking Ceremony on Monday\, March 27\, 2023\, at 2:00 p.m. in Columbia Park. Mark your calendars and join us for this super exciting event!!<em>.</em></span>
LOCATION:
UID:e.1642.11393
SEQUENCE:3
DTSTAMP:20260423T191828Z
URL:https://business.phlcoc.net/events/details/groundbreaking-for-the-park-hills-aquatic-center-11393
END:VEVENT

END:VCALENDAR
