BEGIN:VCALENDAR
VERSION:2.0
PRODID:-//ChamberMaster//Event Calendar 2.0//EN
METHOD:PUBLISH
X-PUBLISHED-TTL:P3D
REFRESH-INTERVAL:P3D
CALSCALE:GREGORIAN
BEGIN:VEVENT
DTSTART:20220916T123000Z
DTEND:20220916T140000Z
X-MICROSOFT-CDO-ALLDAYEVENT:FALSE
SUMMARY:Friday Morning Coffee with CS Design: September 16\, 2022
DESCRIPTION:Join us & CS Design\, LLC at their NEWEST LOCATION\, 101 Hyler Dr\, Suite B in Farmington on Friday\, September 16\, 2022\, for a Friday Morning Coffee! (See the map below for directions to their entrance.)\n\nCS Design\, LLC specializes in healthy online marketing while developing a beautiful\, effective and professional online presence for you that helps more customers find your business online.\nFinally\, don't forget to check our Facebook Page in early September for a Facebook Giveaway compliments of CS Design!\n\n\n\nFriday Morning Coffee events are informal relationship-building events that include viewing and discussing the products and services offered at the host business or organization as well as casual conversations among guests. Coffee and donuts are provided by the Friday Morning Coffee host.\n\n\n\nPHOTO RELEASE NOTICE: When you attend a Park Hills - Leadington Chamber of Commerce event\,  you enter an area where photography\, audio\, and video recording may occur. By entering the event premises\, you waive all rights to any claims for payment or royalties in connection with any use via advertising\, web\, social media\, televising\, or other publication of these materials.  You also waive any right to inspect or approve any photo\, video\, or audio recording taken by the Park Hills - Leadington Chamber of Commerce or the person or entity designated to do so by the Park Hills - Leadington Chamber of Commerce. This notice serves as your consent\, waiver of liability\, and release upon entering the event. Please let our photographer or another staff member know if you prefer not to be photographed. Thank you for attending this Park Hills - Leadington Chamber of Commerce Signature Event!
X-ALT-DESC;FMTTYPE=text/html:<p><span style="font-size:16px\;">Join us &amp\; <a href="https://business.phlcoc.net/list/member/cs-design-llc-286" onclick="window.open(this.href\, ''\, 'resizable=no\,status=no\,location=no\,toolbar=no\,menubar=no\,fullscreen=no\,scrollbars=no\,dependent=no')\; return false\;"><strong>CS Design\, LLC</strong></a>&nbsp\;at their <strong>NEWEST LOCATION</strong>\, 101 Hyler Dr\, Suite B in Farmington&nbsp\;on Friday\, September 16\, 2022\, for a Friday Morning Coffee! (See the map below for directions to their entrance.)</span></p>\n\n<p><span style="font-size:16px\;">CS Design\, LLC specializes in healthy online marketing while developing a beautiful\, effective and professional online presence for you that helps more customers find your business online.</span></p>\n<span style="font-size:16px\;">Finally\, don&#39\;t forget to check our Facebook Page in early September for a <strong>Facebook Giveaway compliments of CS Design</strong>!</span><br />\n<br />\n<span style="font-size:14px\;">Friday Morning Coffee events are informal relationship-building events that include viewing and discussing the products and services offered at the host business or organization as well as casual conversations among guests. Coffee and donuts are provided by the Friday Morning Coffee host.</span><br />\n<br />\n<span style="font-size:8px\;"><strong style="font-size: 12px\;">PHOTO RELEASE NOTICE:</strong>&nbsp\;</span><span style="font-size:9px\;">When you attend a Park Hills - Leadington Chamber of Commerce event\,&nbsp\; you enter an area where photography\, audio\, and video recording may occur. By entering the event premises\, you waive all rights to any claims for payment or royalties in connection with any use via advertising\, web\, social media\, televising\, or other publication of these materials.&nbsp\; You also waive any right to inspect or approve any photo\, video\, or audio recording taken by the Park Hills - Leadington Chamber of Commerce or the person or entity designated to do so by the Park Hills - Leadington Chamber of Commerce. This notice serves as your consent\, waiver of liability\, and release upon entering the event. Please let our photographer or another staff member know if you prefer not to be photographed. Thank you for attending this Park Hills - Leadington Chamber of Commerce Signature Event!</span>
LOCATION:To Be Held At: CS Design's Farmington Location
UID:e.1642.11182
SEQUENCE:3
DTSTAMP:20260423T155316Z
URL:https://business.phlcoc.net/events/details/friday-morning-coffee-with-cs-design-september-16-2022-11182
END:VEVENT

END:VCALENDAR
