BEGIN:VCALENDAR
VERSION:2.0
PRODID:-//ChamberMaster//Event Calendar 2.0//EN
METHOD:PUBLISH
X-PUBLISHED-TTL:P3D
REFRESH-INTERVAL:P3D
CALSCALE:GREGORIAN
BEGIN:VEVENT
DTSTART:20210612T140000Z
DTEND:20210612T180000Z
X-MICROSOFT-CDO-ALLDAYEVENT:FALSE
SUMMARY:FREE\, Walk-In COVID Vaccine Clinic at Parkland Health Mart Pharmacy Locations
DESCRIPTION:All Parkland Health Mart Pharmacy locations will be hosting a FREE walk-in COVID vaccine clinic on Saturday\, June 12th\, from 9:00 a.m. to 1:00 p.m.\n\n\n\nNo appointment necessary!!\n\n\n\nProtect yourself\, protect your loved ones\, protect your community!\n\n\n\nFive locations to serve you:\n\n	Desloge: 573-431-667\n	Farmington: 573-747-1191\n	Fredericktown: 573-783-6000\n	Ironton: 573-546-6000\n	Piedmont: 573-223-4235\n\nwww.parklandrx.com
X-ALT-DESC;FMTTYPE=text/html:<br />\nAll Parkland Health Mart Pharmacy locations will be hosting a FREE walk-in COVID vaccine clinic on Saturday\, June 12th\, from 9:00 a.m. to 1:00 p.m.<br />\n<br />\nNo appointment necessary!!<br />\n<br />\nProtect yourself\, protect your loved ones\, protect your community!<br />\n<br />\nFive locations to serve you:\n<ul>\n	<li>Desloge: 573-431-667</li>\n	<li>Farmington: 573-747-1191</li>\n	<li>Fredericktown: 573-783-6000</li>\n	<li>Ironton: 573-546-6000</li>\n	<li>Piedmont: 573-223-4235</li>\n</ul>\n<a href="http://?www.parklandrx.com">www.parklandrx.com</a>
LOCATION:
UID:e.1642.10602
SEQUENCE:3
DTSTAMP:20260420T111626Z
URL:https://business.phlcoc.net/events/details/free-walk-in-covid-vaccine-clinic-at-parkland-health-mart-pharmacy-locations-10602
END:VEVENT

END:VCALENDAR
