BEGIN:VCALENDAR
VERSION:2.0
PRODID:-//ChamberMaster//Event Calendar 2.0//EN
METHOD:PUBLISH
X-PUBLISHED-TTL:P3D
REFRESH-INTERVAL:P3D
CALSCALE:GREGORIAN
BEGIN:VEVENT
DTSTART:20210903T200000Z
DTEND:20210903T220000Z
X-MICROSOFT-CDO-ALLDAYEVENT:FALSE
SUMMARY:Free Ice Cream Social at Belgrade State Bank
DESCRIPTION:The Desloge Belgrade State Bank branch will be hosting a FREE ice cream social to celebrate Missouri's 200 Year Celebration on Friday\, September 3\, 2021\, from 3-5 PM. \n\n\n\nThey will be proudly serving ice cream provided by Old Village Mercantile in Caledonia.
X-ALT-DESC;FMTTYPE=text/html:<p><br />\nThe Desloge Belgrade State Bank branch will be hosting a FREE ice cream social to celebrate Missouri&#39\;s 200 Year Celebration on Friday\, September 3\, 2021\, from 3-5 PM.&nbsp\;<br />\n<br />\nThey will be proudly serving ice cream provided by Old Village Mercantile in Caledonia.</p>\n
LOCATION:
UID:e.1642.10646
SEQUENCE:3
DTSTAMP:20260420T021334Z
URL:https://business.phlcoc.net/events/details/free-ice-cream-social-at-belgrade-state-bank-09-03-2021-10646
END:VEVENT

END:VCALENDAR
