BEGIN:VCALENDAR
VERSION:2.0
PRODID:-//ChamberMaster//Event Calendar 2.0//EN
METHOD:PUBLISH
X-PUBLISHED-TTL:P3D
REFRESH-INTERVAL:P3D
CALSCALE:GREGORIAN
BEGIN:VEVENT
DTSTART:20210610T230000Z
DTEND:20210611T000000Z
X-MICROSOFT-CDO-ALLDAYEVENT:FALSE
SUMMARY:Downtown Beautification Initiative Meeting
DESCRIPTION:Attention Downtown Park Hills Property Owners! You are invited to attend a Downtown Beautification Initiative Meeting Thursday Evening\, June 10th\, at 6:00 p.m. in the Park Hills Council Chambers located at 10 Municipal Drive.\n\n\n\n \n\n\n\nThis initiative is geared toward stimulating property owners to revitalize the face of their buildings. Funding is available for those within the TIF 4 Downtown Redevelopment Area.\n\n\n\n \n\n\n\nQualifying Projects Include: \n\n\n	Windows\n	Siding\n	Paint\n	Signage\n	Awning\n	Streetscape\n\n\n\n\nJoin us Thursday night to learn how you can participate in this project.\n\n\n\n \n\n\n\nFor more information\, contact the Community Development Department at 573-431-3577 Ext. 32 or 42. You may also email us at cddirector@parkhillsmo.net or lbolius@parkhillsmo.net.
X-ALT-DESC;FMTTYPE=text/html:<div>\n<div><br />\n<strong>Attention Downtown Park Hills Property Owners!</strong> You are invited to attend a Downtown Beautification Initiative Meeting Thursday Evening\, June 10th\, at 6:00 p.m. in the Park Hills Council Chambers located at 10 Municipal Drive.</div>\n</div>\n\n<div>\n<div>&nbsp\;</div>\n</div>\n\n<div>\n<div>This initiative is geared toward stimulating property owners to revitalize the face of their buildings. Funding is available for those within the TIF 4 Downtown Redevelopment Area.</div>\n</div>\n\n<div>\n<div>&nbsp\;</div>\n</div>\n\n<div>\n<div><strong>Qualifying Projects Include: </strong></div>\n\n<ul>\n	<li>Windows</li>\n	<li>Siding</li>\n	<li>Paint</li>\n	<li>Signage</li>\n	<li>Awning</li>\n	<li>Streetscape</li>\n</ul>\n</div>\n\n<div>\n<div>Join us Thursday night to learn how you can participate in this project.</div>\n</div>\n\n<div>\n<div>&nbsp\;</div>\n</div>\n\n<div>\n<div>For more information\, contact the Community Development Department at 573-431-3577 Ext. 32 or 42. You may also email us at <a href="mailto:cddirector@parkhillsmo.net" rel="noopener" target="_blank" title="Send Email">cddirector@parkhillsmo.net</a> or <a href="mailto:lbolius@parkhillsmo.net" rel="noopener" target="_blank" title="Send an Email">lbolius@parkhillsmo.net</a>.</div>\n</div>\n
LOCATION:Park Hills Council Chambers
UID:e.1642.10603
SEQUENCE:3
DTSTAMP:20260420T104405Z
URL:https://business.phlcoc.net/events/details/downtown-beautification-initiative-meeting-10603
END:VEVENT

END:VCALENDAR
