BEGIN:VCALENDAR
VERSION:2.0
PRODID:-//ChamberMaster//Event Calendar 2.0//EN
METHOD:PUBLISH
X-PUBLISHED-TTL:P3D
REFRESH-INTERVAL:P3D
CALSCALE:GREGORIAN
BEGIN:VEVENT
DTSTART;VALUE=DATE:20210909
DTEND;VALUE=DATE:20210910
TRANSP:TRANSPARENT
X-MICROSOFT-CDO-ALLDAYEVENT:TRUE
SUMMARY:Dine Out Thursday for United Way at Pasta House or Subway (Bonne Terre\, Desloge Walmart\, & Farmington)
DESCRIPTION:When you dine out at Pasta House or Subway (Bonne Terre\, Desloge Walmart\, & Farmington) on Thursday\, September 9th\, a portion of the cost of your meal goes to the United Way of St. Francois County.  You pay nothing extra!  This applies to all meals purchased throughout the day on "Dine Out" day!\n\n\n\nThe United Way awards thousands of dollars in grants each year to help meet human needs in St. Francois County!\n\n\n\nThank you! The United Way of St. Francois County thanks the participating restaurants and community members who support the "Dine Out" program.\n\n\n\nDonate Now Button!! We now have a "Donate Now" button on our website! 100% of your donation stays in the St. Francois County Community for those in need!\n\n\n\nIf you wish to sign up for the 2021 Bell Ringing Campaign\, you can call our office at 573-760-8929\, or email us at director@unitedwayofsfc.org\, or check out our website at www.unitedwayofsfc.org.  And be sure to "Like us on Facebook"!
X-ALT-DESC;FMTTYPE=text/html:<br />\n<span style="font-size:16px\;">When you dine out at Pasta House or Subway (Bonne Terre\, Desloge Walmart\, &amp\; Farmington) on Thursday\, September 9th\, a portion of the cost of your meal goes to the United Way of St. Francois County.&nbsp\; You pay nothing extra!&nbsp\; This applies to all meals purchased throughout the day on &quot\;Dine Out&quot\; day!<br />\n<br />\nThe United Way awards thousands of dollars in grants each year to help meet human needs in St. Francois County!<br />\n<br />\nThank you! The United Way of St. Francois County thanks the participating restaurants and community members who support the &quot\;Dine Out&quot\; program.<br />\n<br />\nDonate Now Button!! We now have a &quot\;Donate Now&quot\; button on our website! 100% of your donation stays in the St. Francois County Community for those in need!<br />\n<br />\nIf you wish to sign up for the 2021 Bell Ringing Campaign\, you can call our office at 573-760-8929\, or email us at <a href="mailto:director@unitedwayofsfc.org">director@unitedwayofsfc.org</a>\, or check out our website at&nbsp\;<a href="http://www.unitedwayofsfc.org">www.unitedwayofsfc.org</a>.&nbsp\; And be sure to &quot\;<a href="https://www.facebook.com/pages/United-Way-of-St-Francois-County/159556127432434">Like us on Facebook</a>&quot\;!</span>
LOCATION:Pasta House or Subway (Bonne Terre\, Desloge Walmart\, and Farmington)
UID:e.1642.10731
SEQUENCE:3
DTSTAMP:20260420T022014Z
URL:https://business.phlcoc.net/events/details/dine-out-thursday-for-united-way-at-pasta-house-or-subway-bonne-terre-desloge-walmart-farmington-10731
END:VEVENT

END:VCALENDAR
