BEGIN:VCALENDAR
VERSION:2.0
PRODID:-//ChamberMaster//Event Calendar 2.0//EN
METHOD:PUBLISH
X-PUBLISHED-TTL:P3D
REFRESH-INTERVAL:P3D
CALSCALE:GREGORIAN
BEGIN:VEVENT
DTSTART;VALUE=DATE:20200917
DTEND;VALUE=DATE:20200918
TRANSP:TRANSPARENT
X-MICROSOFT-CDO-ALLDAYEVENT:TRUE
SUMMARY:Dine Out Thursday for United Way at El Tapatio in Desloge
DESCRIPTION:When you dine out at El Tapatio in Desloge\, on Thursday\, September 17\, 2020\, a portion of the cost of your meal goes to the United Way of St. Francois County.  You pay nothing extra!  This applies to all meals purchased throughout the day on "Dine Out" day!\n\n\n\nThe United Way awards thousands of dollars in grants each year to help meet human needs in St. Francois County!\n\n\n\nFound out more about the United Way on our web at www.unitedwayofsfc.org.  And be sure to "Like us on Facebook"!
X-ALT-DESC;FMTTYPE=text/html:When you dine out at El Tapatio in Desloge\, on Thursday\, September 17\, 2020\, a portion of the cost of your meal goes to the United Way of St. Francois County.&nbsp\; You pay nothing extra!&nbsp\; This applies to all meals purchased throughout the day on &quot\;Dine Out&quot\; day!<br />\n<br />\nThe United Way awards thousands of dollars in grants each year to help meet human needs in St. Francois County!<br />\n<br />\nFound out more about the United Way on our web at <a href="http://www.unitedwayofsfc.org">www.unitedwayofsfc.org</a>.&nbsp\; And be sure to &quot\;<a href="https://www.facebook.com/pages/United-Way-of-St-Francois-County/159556127432434">Like us on Facebook</a>&quot\;!
LOCATION:El Tapatio: Desloge
UID:e.1642.10173
SEQUENCE:3
DTSTAMP:20260420T220856Z
URL:https://business.phlcoc.net/events/details/dine-out-thursday-for-united-way-at-el-tapatio-in-desloge-10173
END:VEVENT

END:VCALENDAR
