BEGIN:VCALENDAR
VERSION:2.0
PRODID:-//ChamberMaster//Event Calendar 2.0//EN
METHOD:PUBLISH
X-PUBLISHED-TTL:P3D
REFRESH-INTERVAL:P3D
CALSCALE:GREGORIAN
BEGIN:VEVENT
DTSTART:20221115T190000Z
DTEND:20221115T200000Z
X-MICROSOFT-CDO-ALLDAYEVENT:FALSE
SUMMARY:Committee Meeting - Sweetheart Trivia Night
DESCRIPTION:A meeting to discuss the 2023 Sweetheart Trivia Night is to be held at 1:00 p.m. immediately following the regularly scheduled Investor Meeting on Tuesday\, November 15\, 2022\, at the White Magnolia Banquet Hall.\n\n\n\nThe Sweetheart Trivia Committee Members are responsible for the following items:\n\n	Ensuring adequate sponsorship for the event\n	Deciding on food for the event\n	Decorations for the event\n	Recommending an emcee for the event\n	Assisting with the collection of door prizes for the event\n	Assisting with the collection of desserts for the event\n	Securing a wine tasting sponsor for the event\n	Securing judges for the event\n	Ensuring adequate volunteers for the event\n	Assisting with food preparation for the event\n	Any other items necessary for the overall preparation and execution of the event
X-ALT-DESC;FMTTYPE=text/html:<br />\nA meeting to discuss the 2023 Sweetheart Trivia Night is to be held at 1:00 p.m. immediately following the regularly scheduled Investor Meeting on Tuesday\, November 15\, 2022\, at the White Magnolia Banquet Hall.<br />\n<br />\nThe Sweetheart Trivia Committee Members are responsible for the following items:\n<ul>\n	<li><em>Ensuring adequate sponsorship for the event</em></li>\n	<li><em>Deciding on food for the event</em></li>\n	<li><em>Decorations for the event</em></li>\n	<li><em>Recommending an emcee for the event</em></li>\n	<li><em>Assisting with the collection of door prizes for the event</em></li>\n	<li><em>Assisting with the collection of desserts for the event</em></li>\n	<li><em>Securing a wine tasting sponsor for the event</em></li>\n	<li><em>Securing judges for the event</em></li>\n	<li><em>Ensuring adequate volunteers for the event</em></li>\n	<li><em>Assisting with food preparation for the event</em></li>\n	<li><em>Any other items necessary for the overall preparation and execution of the event</em></li>\n</ul>\n
LOCATION:White Magnolia Banquet Hall
UID:e.1642.11229
SEQUENCE:3
DTSTAMP:20260423T133204Z
URL:https://business.phlcoc.net/events/details/committee-meeting-sweetheart-trivia-night-11229
END:VEVENT

END:VCALENDAR
