BEGIN:VCALENDAR
VERSION:2.0
PRODID:-//ChamberMaster//Event Calendar 2.0//EN
METHOD:PUBLISH
X-PUBLISHED-TTL:P3D
REFRESH-INTERVAL:P3D
CALSCALE:GREGORIAN
BEGIN:VEVENT
DTSTART:20230712T130000Z
DTEND:20230712T150000Z
X-MICROSOFT-CDO-ALLDAYEVENT:FALSE
SUMMARY:Committee Meeting - Strategic Planning Committee
DESCRIPTION:A meeting of the Chamber's Strategic Planning Committee will meet in the Park Hills Council Chambers\, on Wednesday\, July 12\, 2023\, immediately following the regularly scheduled Board Meeting.\n\n\n\nCOMMITTEE MEMBERS INCLUDE:\n\n\n	Ronni Conley - Chair\n	Joshua Kennon - Co-Chair\n	Valerie Robertson - Secretary\n	Debbie Hamby\n	Glenda Straughn\n	Tiffany Wright\n\n\n\n\nMEETING FOCUS:\n\n\n	Center Stage Investor Program
X-ALT-DESC;FMTTYPE=text/html:<p><br>\n<span style="font-size:16px\;">A meeting of the Chamber's Strategic Planning Committee will meet in the Park Hills Council Chambers\, on Wednesday\, July 12\, 2023\, immediately following the regularly scheduled Board Meeting.</span><br>\n<br>\n<span style="font-size:16px\;"><strong>COMMITTEE MEMBERS INCLUDE:</strong></span></p>\n\n<ul>\n	<li><span style="font-size:16px\;">Ronni Conley - Chair</span></li>\n	<li><span style="font-size:16px\;">Joshua Kennon - Co-Chair</span></li>\n	<li><span style="font-size:16px\;"><span style="font-size: 16px\;">Valerie Robertson - Secretary</span></span></li>\n	<li><span style="font-size:16px\;">Debbie Hamby</span></li>\n	<li><span style="font-size:16px\;">Glenda Straughn</span></li>\n	<li><span style="font-size:16px\;">Tiffany Wright</span></li>\n</ul>\n\n<p><br>\n<span style="font-size:16px\;"><strong>MEETING FOCUS:</strong></span></p>\n\n<ul>\n	<li><span style="font-size:16px\;">Center Stage Investor Program</span></li>\n</ul>\n
LOCATION:Park Hills Council Chambers
UID:e.1642.11516
SEQUENCE:3
DTSTAMP:20260422T133903Z
URL:https://business.phlcoc.net/events/details/committee-meeting-strategic-planning-committee-11516
END:VEVENT

END:VCALENDAR
