BEGIN:VCALENDAR
VERSION:2.0
PRODID:-//ChamberMaster//Event Calendar 2.0//EN
METHOD:PUBLISH
X-PUBLISHED-TTL:P3D
REFRESH-INTERVAL:P3D
CALSCALE:GREGORIAN
BEGIN:VEVENT
DTSTART:20230313T133000Z
DTEND:20230313T143000Z
X-MICROSOFT-CDO-ALLDAYEVENT:FALSE
SUMMARY:Committee Meeting - Sauces & Shows
DESCRIPTION:The "Sauces & Shows" Planning Committee is scheduled to meet on Monday\, March 13\, 2023\, at 8:30 a.m. This meeting will be held in the Park Hills Council Chambers.
X-ALT-DESC;FMTTYPE=text/html:<br />\n<br />\n<span style="font-size:16px\;">The &quot\;Sauces &amp\; Shows&quot\; Planning Committee is scheduled to meet on Monday\, March 13\, 2023\, at 8:30 a.m. This meeting will be held in the Park Hills Council Chambers.</span>
LOCATION:Park Hills Council Chambers
UID:e.1642.11386
SEQUENCE:3
DTSTAMP:20260423T202943Z
URL:https://business.phlcoc.net/events/details/committee-meeting-sauces-shows-11386
END:VEVENT

END:VCALENDAR
