BEGIN:VCALENDAR
VERSION:2.0
PRODID:-//ChamberMaster//Event Calendar 2.0//EN
METHOD:PUBLISH
X-PUBLISHED-TTL:P3D
REFRESH-INTERVAL:P3D
CALSCALE:GREGORIAN
BEGIN:VEVENT
DTSTART:20230215T140000Z
DTEND:20230215T150000Z
X-MICROSOFT-CDO-ALLDAYEVENT:FALSE
SUMMARY:Committee Meeting - Sauces & Shows
DESCRIPTION:The "Sauces & Shows" Planning Committee is scheduled to meet at 8:00 a.m. on Wednesday\, February 15\, 2023. This meeting will be held in the Park Hills Council Chambers.
X-ALT-DESC;FMTTYPE=text/html:<br />\n<br />\n<span style="font-size:16px\;">The &quot\;Sauces &amp\; Shows&quot\; Planning Committee is scheduled to meet at 8:00 a.m. on Wednesday\, February 15\, 2023. This meeting will be held in the Park Hills Council Chambers.</span>
LOCATION:Park Hills Council Chambers
UID:e.1642.11349
SEQUENCE:3
DTSTAMP:20260423T174934Z
URL:https://business.phlcoc.net/events/details/committee-meeting-sauces-shows-11349
END:VEVENT

END:VCALENDAR
