BEGIN:VCALENDAR
VERSION:2.0
PRODID:-//ChamberMaster//Event Calendar 2.0//EN
METHOD:PUBLISH
X-PUBLISHED-TTL:P3D
REFRESH-INTERVAL:P3D
CALSCALE:GREGORIAN
BEGIN:VEVENT
DTSTART:20230727T133000Z
DTEND:20230727T143000Z
X-MICROSOFT-CDO-ALLDAYEVENT:FALSE
SUMMARY:Committee Meeting - Membership Committee
DESCRIPTION:A meeting of the Chamber's Membership Committee will be held at the Park Hills Council Chambers\, on Thursday\, July 27\, 2023\, at 8:30 a.m.!\n\n\n\nCOMMITTEE MEMBERS INCLUDE:\n\n\n	Debbie Hamby - Chair\n	Tiffany Wright - Co-Chair\n	Ronni Conley - Secretary\n	Zach Franklin\n	Joshua Kennon\n	Dana Pratt\n	Valerie Robertson\n\n\n\n\nCOMMITTEE RESPONSIBILITIES:\n\nThe Membership Committee Members are responsible for the following items in relation to the Chamber Membership:\n\n\n	Recruit Non-Board Members to Serve as Committee Members\n	Review Existing New Member Packets\n	Review and Create New Member Benefits\n	Recruit New Members\n	Explore Membership Directory Updating Options
X-ALT-DESC;FMTTYPE=text/html:<p><br />\n<span style="font-size:16px\;">A meeting of the Chamber&#39\;s&nbsp\;Membership Committee&nbsp\;will be&nbsp\;held at <b>the Park Hills Council Chambers</b>\, on Thursday\, July 27\, 2023\, at 8:30 a.m.!<br />\n<br />\n<strong>COMMITTEE MEMBERS INCLUDE:</strong></span></p>\n\n<ul>\n	<li><span style="font-size: 16px\;">Debbie Hamby - Chair</span></li>\n	<li><span style="font-size: 16px\;">Tiffany Wright - Co-Chair</span></li>\n	<li><span style="font-size:16px\;">Ronni Conley - Secretary</span></li>\n	<li><span style="font-size:16px\;">Zach Franklin</span></li>\n	<li><span style="font-size:16px\;">Joshua Kennon</span></li>\n	<li><span style="font-size:16px\;">Dana Pratt</span></li>\n	<li><span style="font-size:16px\;">Valerie Robertson</span></li>\n</ul>\n\n<p><br />\n<strong><span style="font-size:16px\;">COMMITTEE RESPONSIBILITIES:</span></strong><br />\n<span style="font-size:16px\;">The Membership Committee Members are responsible for the following items in relation to the Chamber Membership:</span></p>\n\n<ul>\n	<li><span style="font-size:16px\;"><em>Recruit Non-Board Members to Serve as Committee Members</em></span></li>\n	<li><span style="font-size:16px\;"><em>Review Existing New Member Packets</em></span></li>\n	<li><span style="font-size:16px\;"><em>Review and Create New Member Benefits</em></span></li>\n	<li><span style="font-size:16px\;"><em>Recruit New Members</em></span></li>\n	<li><span style="font-size:16px\;"><em>Explore Membership Directory Updating Options</em></span></li>\n</ul>\n
LOCATION:Park Hills Council Chambers
UID:e.1642.11523
SEQUENCE:3
DTSTAMP:20260422T133744Z
URL:https://business.phlcoc.net/events/details/committee-meeting-membership-committee-11523
END:VEVENT

END:VCALENDAR
