BEGIN:VCALENDAR
VERSION:2.0
PRODID:-//ChamberMaster//Event Calendar 2.0//EN
METHOD:PUBLISH
X-PUBLISHED-TTL:P3D
REFRESH-INTERVAL:P3D
CALSCALE:GREGORIAN
BEGIN:VEVENT
DTSTART:20230208T150000Z
DTEND:20230208T160000Z
X-MICROSOFT-CDO-ALLDAYEVENT:FALSE
SUMMARY:Committee Meeting - Investor Meetings Committee
DESCRIPTION:Members of the Investor Meetings Committee will meet in the Park Hills Council Chambers on Wednesday\, February 8\, 2023\, immediately following the regularly scheduled board meeting\, at 9:00 a.m. to begin scheduling speakers for 2023.\n\n\n\nThe Investor Meetings Committee Members are responsible for the following items in relation to the Chamber's monthly Investor Meetings:\n\n\n	Creates the annual schedule of speakers for investor meetings\n	Plans and facilitates the Chamber's annual holiday investor meeting in December\n	Assists with securing locations and caterers for the monthly investor meetings\n	Recommends ideas for improving or enhancing the monthly investor meetings
X-ALT-DESC;FMTTYPE=text/html:<p><br />\n<span style="font-size:16px\;">Members of the Investor Meetings Committee will meet in the Park Hills Council Chambers&nbsp\;on Wednesday\, February 8\, 2023\, immediately following the regularly scheduled board meeting\, at 9:00 a.m.&nbsp\;to begin scheduling&nbsp\;speakers for 2023.<br />\n<br />\nThe Investor Meetings Committee Members are responsible for the following items in relation to the Chamber&#39\;s monthly Investor Meetings:</span></p>\n\n<ul>\n	<li><span style="font-size:16px\;"><em>Creates the annual schedule of speakers for investor meetings</em></span></li>\n	<li><span style="font-size:16px\;"><em>Plans and facilitates the Chamber&#39\;s annual holiday investor meeting in December</em></span></li>\n	<li><span style="font-size:16px\;"><em>Assists with securing locations and caterers for the monthly investor meetings</em></span></li>\n	<li><span style="font-size:16px\;"><em>Recommends ideas for improving or enhancing the monthly investor meetings</em></span></li>\n</ul>\n
LOCATION:Park Hills Council Chambers
UID:e.1642.11378
SEQUENCE:3
DTSTAMP:20260423T192002Z
URL:https://business.phlcoc.net/events/details/committee-meeting-investor-meetings-committee-11378
END:VEVENT

END:VCALENDAR
