BEGIN:VCALENDAR
VERSION:2.0
PRODID:-//ChamberMaster//Event Calendar 2.0//EN
METHOD:PUBLISH
X-PUBLISHED-TTL:P3D
REFRESH-INTERVAL:P3D
CALSCALE:GREGORIAN
BEGIN:VEVENT
DTSTART:20210113T150000Z
DTEND:20210113T160000Z
X-MICROSOFT-CDO-ALLDAYEVENT:FALSE
SUMMARY:Committee Meeting - Investor Meetings Committee
DESCRIPTION:Members of the Investor Meetings Committee will meet on Wednesday\, January 13\, 2020\, immediately following the Board Meeting to begin planning for the 2021 Investor Meetings.\n\n\n\nThe Investor Meetings Committee Members are responsible for the following items in relation to the Chamber's monthly Investor Meetings:\n\n\n	Creates the annual schedule of speakers for investor meetings\n	Plans and facilitates the Chamber's annual holiday investor meeting in December\n	Assists with securing locations and caterers for the monthly investor meetings\n	Recommends ideas for improving or enhancing the monthly investor meetings
X-ALT-DESC;FMTTYPE=text/html:<p>Members of the Investor Meetings Committee will meet on Wednesday\, January 13\, 2020\, immediately following the Board Meeting to begin planning for the 2021 Investor Meetings.<br />\n<br />\nThe Investor Meetings Committee Members are responsible for the following items in relation to the Chamber&#39\;s monthly Investor Meetings:</p>\n\n<ul>\n	<li><em>Creates the annual schedule of speakers for investor meetings</em></li>\n	<li><em>Plans and facilitates the Chamber&rsquo\;s annual holiday investor meeting in December</em></li>\n	<li><em>Assists with securing locations and caterers for the monthly investor meetings</em></li>\n	<li><em>Recommends ideas for improving or enhancing the monthly investor meetings</em></li>\n</ul>\n
LOCATION:Park Hills Council Chambers
UID:e.1642.10248
SEQUENCE:3
DTSTAMP:20260422T085432Z
URL:https://business.phlcoc.net/events/details/committee-meeting-investor-meetings-committee-10248
END:VEVENT

END:VCALENDAR
