BEGIN:VCALENDAR
VERSION:2.0
PRODID:-//ChamberMaster//Event Calendar 2.0//EN
METHOD:PUBLISH
X-PUBLISHED-TTL:P3D
REFRESH-INTERVAL:P3D
CALSCALE:GREGORIAN
BEGIN:VEVENT
DTSTART:20201020T130000Z
DTEND:20201020T140000Z
X-MICROSOFT-CDO-ALLDAYEVENT:FALSE
SUMMARY:Committee Meeting - Installation Banquet
DESCRIPTION:A meeting of the Installation Banquet Planning Committee is to be held in the Park Hills Council Chambers on Tuesday\, October 20\, 2020\, at 8:00 a.m.\n\n\n\nWe will be discussing the 2021 Installation Banquet.\n\n\n\nThe Installation Banquet Committee Members are responsible for the following items:\n\n	Recommending entertainment for the event\n	Ensuring adequate sponsorship for the event\n	Recommending a caterer for the event\n	Recommending nominees for the annual awards\n	Decorations for the event\n	Recommending an emcee for the event\n	Creating an agenda for the event\n	Any other items necessary for the overall preparation and execution of the event
X-ALT-DESC;FMTTYPE=text/html:A meeting of the Installation Banquet Planning Committee is to be held in the Park Hills Council Chambers on Tuesday\, October 20\, 2020\, at 8:00 a.m.<br>\n<br>\n<b>We will be discussing the 2021 Installation Banquet.</b><br>\n<br>\nThe Installation Banquet Committee Members are responsible for the following items:\n<ul>\n	<li><em>Recommending entertainment for the event</em></li>\n	<li><em>Ensuring adequate sponsorship for the event</em></li>\n	<li><em>Recommending a caterer for the event</em></li>\n	<li><em>Recommending nominees for the annual awards</em></li>\n	<li><em>Decorations for the event</em></li>\n	<li><em>Recommending an emcee for the event</em></li>\n	<li><em>Creating an agenda for the event</em></li>\n	<li><em>Any other items necessary for the overall preparation and execution of the event</em></li>\n</ul>\n
LOCATION:Park Hills Council Chambers
UID:e.1642.10191
SEQUENCE:3
DTSTAMP:20260419T220917Z
URL:https://business.phlcoc.net/events/details/committee-meeting-installation-banquet-10191
END:VEVENT

END:VCALENDAR
