BEGIN:VCALENDAR
VERSION:2.0
PRODID:-//ChamberMaster//Event Calendar 2.0//EN
METHOD:PUBLISH
X-PUBLISHED-TTL:P3D
REFRESH-INTERVAL:P3D
CALSCALE:GREGORIAN
BEGIN:VEVENT
DTSTART:20210127T190000Z
DTEND:20210127T200000Z
X-MICROSOFT-CDO-ALLDAYEVENT:FALSE
SUMMARY:Committee Meeting - Buildings & Property Management Committee
DESCRIPTION:A meeting of the Chamber's Buildings & Property Management Committee members is to be held in the Park Hills Council Chambers at 1:00 p.m. on Wednesday\, January 27\, 2021.\n\n\n\nThe Building Committee Members are responsible for the following items in relation to the properties owned by the Chamber:\n\n	Review and address any Chamber needs in regards to buildings\n	Review and address any City (Leadington or Park Hills) needs that the Chamber might consider assisting with in regards to buildings\n	Review and address any community needs that the Chamber might consider assist
X-ALT-DESC;FMTTYPE=text/html:<br />\nA meeting of the Chamber&#39\;s Buildings &amp\; Property Management Committee members is to be held in the Park Hills Council Chambers at 1:00 p.m. on Wednesday\, January 27\, 2021.<br />\n<br />\nThe Building Committee Members are responsible for the following items in relation to the properties owned by the Chamber:\n<ul>\n	<li><em style="line-height: 1.6\;">Review and address any Chamber needs in regards to buildings</em></li>\n	<li><em>Review and address any City (Leadington or Park Hills) needs that the Chamber might consider assisting with in regards to buildings</em></li>\n	<li><em>Review and address any community needs that the Chamber might consider assist</em></li>\n</ul>\n
LOCATION:Park Hills Council Chambers
UID:e.1642.10433
SEQUENCE:3
DTSTAMP:20260421T183322Z
URL:https://business.phlcoc.net/events/details/committee-meeting-buildings-property-management-committee-10433
END:VEVENT

END:VCALENDAR
