BEGIN:VCALENDAR
VERSION:2.0
PRODID:-//ChamberMaster//Event Calendar 2.0//EN
METHOD:PUBLISH
X-PUBLISHED-TTL:P3D
REFRESH-INTERVAL:P3D
CALSCALE:GREGORIAN
BEGIN:VEVENT
DTSTART:20230111T140000Z
DTEND:20230111T150000Z
X-MICROSOFT-CDO-ALLDAYEVENT:FALSE
SUMMARY:Committee Meeting - Awards Banquet
DESCRIPTION:A meeting of the Awards Banquet Planning Committee is to be held on Wednesday\, January 11\, 2023\, at 8:00 a.m. This meeting will be held in the Park Hills Council Chambers.\n\n\n\nWe will be finalizing plans for the 2023 Awards Banquet.\n\n\n\nThe Awards Banquet Committee Members are responsible for the following items:\n\n	Recommending entertainment for the event\n	Ensuring adequate sponsorship for the event\n	Recommending a caterer for the event\n	Recommending nominees for the annual awards\n	Decorations for the event\n	Recommending an emcee for the event\n	Creating an agenda for the event\n	Any other items necessary for the overall preparation and execution of the event
X-ALT-DESC;FMTTYPE=text/html:<br />\n<span style="font-size:16px\;">A meeting of the Awards Banquet Planning Committee is to be held on Wednesday\, January 11\, 2023\, at 8:00 a.m. This meeting will be held in the Park Hills Council Chambers.<br />\n<br />\n<b>We will be finalizing plans for the 2023 Awards Banquet.</b><br />\n<br />\nThe Awards Banquet Committee Members are responsible for the following items:</span>\n<ul>\n	<li><span style="font-size:16px\;"><em>Recommending entertainment for the event</em></span></li>\n	<li><span style="font-size:16px\;"><em>Ensuring adequate sponsorship for the event</em></span></li>\n	<li><span style="font-size:16px\;"><em>Recommending a caterer for the event</em></span></li>\n	<li><span style="font-size:16px\;"><em>Recommending nominees for the annual awards</em></span></li>\n	<li><span style="font-size:16px\;"><em>Decorations for the event</em></span></li>\n	<li><span style="font-size:16px\;"><em>Recommending an emcee for the event</em></span></li>\n	<li><span style="font-size:16px\;"><em>Creating an agenda for the event</em></span></li>\n	<li><span style="font-size:16px\;"><em>Any other items necessary for the overall preparation and execution of the event</em></span></li>\n</ul>\n
LOCATION:Park Hills Council Chambers 10 Municipal Drive Park Hills\, MO 63601
UID:e.1642.11314
SEQUENCE:3
DTSTAMP:20260423T174940Z
URL:https://business.phlcoc.net/events/details/committee-meeting-awards-banquet-11314
END:VEVENT

END:VCALENDAR
