BEGIN:VCALENDAR
VERSION:2.0
PRODID:-//ChamberMaster//Event Calendar 2.0//EN
METHOD:PUBLISH
X-PUBLISHED-TTL:P3D
REFRESH-INTERVAL:P3D
CALSCALE:GREGORIAN
BEGIN:VEVENT
DTSTART:20210407T210000Z
DTEND:20210407T220000Z
X-MICROSOFT-CDO-ALLDAYEVENT:FALSE
SUMMARY:Committee Meeting - Awards Banquet
DESCRIPTION:A meeting of the Awards Banquet Planning Committee is to be held in the Park Hills Council Chambers on Wednesday\, April 7\, 2021\, at 8:00 p.m.\n\n\n\nWe will be working on decorations for the 2021 Awards Banquet.\n\n\n\nThe Banquet Committee Members are responsible for the following items:\n\n	Recommending entertainment for the event\n	Ensuring adequate sponsorship for the event\n	Recommending a caterer for the event\n	Recommending nominees for the annual awards\n	Decorations for the event\n	Recommending an emcee for the event\n	Creating an agenda for the event\n	Any other items necessary for the overall preparation and execution of the event
X-ALT-DESC;FMTTYPE=text/html:<br />\nA meeting of the Awards Banquet Planning Committee is to be held in the Park Hills Council Chambers on Wednesday\, April 7\, 2021\, at 8:00 p.m.<br />\n<br />\n<b>We will be working on decorations for the 2021 Awards Banquet.</b><br />\n<br />\nThe Banquet Committee Members are responsible for the following items:\n<ul>\n	<li><em>Recommending entertainment for the event</em></li>\n	<li><em>Ensuring adequate sponsorship for the event</em></li>\n	<li><em>Recommending a caterer for the event</em></li>\n	<li><em>Recommending nominees for the annual awards</em></li>\n	<li><em>Decorations for the event</em></li>\n	<li><em>Recommending an emcee for the event</em></li>\n	<li><em>Creating an agenda for the event</em></li>\n	<li><em>Any other items necessary for the overall preparation and execution of the event</em></li>\n</ul>\n
LOCATION:Park Hills Council Chambers
UID:e.1642.10525
SEQUENCE:3
DTSTAMP:20260419T135533Z
URL:https://business.phlcoc.net/events/details/committee-meeting-awards-banquet-10525
END:VEVENT

END:VCALENDAR
