BEGIN:VCALENDAR
VERSION:2.0
PRODID:-//ChamberMaster//Event Calendar 2.0//EN
METHOD:PUBLISH
X-PUBLISHED-TTL:P3D
REFRESH-INTERVAL:P3D
CALSCALE:GREGORIAN
BEGIN:VEVENT
DTSTART;VALUE=DATE:20220905
DTEND;VALUE=DATE:20220906
TRANSP:TRANSPARENT
X-MICROSOFT-CDO-ALLDAYEVENT:TRUE
SUMMARY:Chamber Office Closed Monday\, September 5th\, For Labor Day
DESCRIPTION:The Chamber Office will be closed on Monday\, September 5\, 2022\, in observance of Labor Day.  Have a safe holiday!\n\n\n\nWe will resume regular business hours on Tuesday\, September 6\, 2022.\n\n\n\nWe apologize for any inconvenience!
X-ALT-DESC;FMTTYPE=text/html:<br />\n<span style="font-size:16px\;">The Chamber Office will be closed on Monday\, September 5\, 2022\, in observance of Labor Day.&nbsp\; Have a safe holiday!<br />\n<br />\nWe will resume regular business hours on Tuesday\, September 6\, 2022.<br />\n<br />\nWe apologize for any inconvenience!</span>
LOCATION:
UID:e.1642.11187
SEQUENCE:3
DTSTAMP:20260423T155352Z
URL:https://business.phlcoc.net/events/details/chamber-office-closed-monday-september-5th-for-labor-day-11187
END:VEVENT

END:VCALENDAR
