BEGIN:VCALENDAR
VERSION:2.0
PRODID:-//ChamberMaster//Event Calendar 2.0//EN
METHOD:PUBLISH
X-PUBLISHED-TTL:P3D
REFRESH-INTERVAL:P3D
CALSCALE:GREGORIAN
BEGIN:VEVENT
DTSTART;VALUE=DATE:20230717
DTEND;VALUE=DATE:20230722
TRANSP:TRANSPARENT
X-MICROSOFT-CDO-ALLDAYEVENT:TRUE
SUMMARY:Chamber Office Closed - July 17-21\, 2023
DESCRIPTION:The Chamber Office will be Monday\, July 17\, 2023\, through Friday\, July 21\, 2023\, for staff vacation. We will reopen at 8:00 a.m. on Monday\, July 24\, 2023.\n\n\n\nWe apologize for any inconvenience and thank you for your patience!
X-ALT-DESC;FMTTYPE=text/html:<br />\n<span style="font-size:16px\;">The Chamber Office will be Monday\, July 17\, 2023\, through Friday\, July 21\, 2023\, for staff vacation. We will reopen at 8:00 a.m. on Monday\, July 24\, 2023.<br />\n<br />\nWe apologize for any inconvenience and thank you for your patience!</span>
LOCATION:Park Hills - Leadington Chamber of Commerce Office
UID:e.1642.11517
SEQUENCE:3
DTSTAMP:20260422T133743Z
URL:https://business.phlcoc.net/events/details/chamber-office-closed-july-17-21-2023-11517
END:VEVENT

END:VCALENDAR
