BEGIN:VCALENDAR
VERSION:2.0
PRODID:-//ChamberMaster//Event Calendar 2.0//EN
METHOD:PUBLISH
X-PUBLISHED-TTL:P3D
REFRESH-INTERVAL:P3D
CALSCALE:GREGORIAN
BEGIN:VEVENT
DTSTART;VALUE=DATE:20230220
DTEND;VALUE=DATE:20230221
TRANSP:TRANSPARENT
X-MICROSOFT-CDO-ALLDAYEVENT:TRUE
SUMMARY:Chamber Office Closed For President's Day
DESCRIPTION:The Chamber Office will be closed on Monday\, February 20\, 2023\, for President's Day.\n\n\n\nWe apologize for any inconvience! Have a great holiday!
X-ALT-DESC;FMTTYPE=text/html:<br />\n<br />\n<span style="font-size:16px\;">The Chamber Office will be closed on Monday\, February 20\, 2023\, for President&#39\;s Day.<br />\n<br />\nWe apologize for any inconvience!&nbsp\;Have a great holiday!</span>
LOCATION:
UID:e.1642.11348
SEQUENCE:3
DTSTAMP:20260423T174934Z
URL:https://business.phlcoc.net/events/details/chamber-office-closed-for-president-s-day-11348
END:VEVENT

END:VCALENDAR
