BEGIN:VCALENDAR
VERSION:2.0
PRODID:-//ChamberMaster//Event Calendar 2.0//EN
METHOD:PUBLISH
X-PUBLISHED-TTL:P3D
REFRESH-INTERVAL:P3D
CALSCALE:GREGORIAN
BEGIN:VEVENT
DTSTART;VALUE=DATE:20230116
DTEND;VALUE=DATE:20230117
TRANSP:TRANSPARENT
X-MICROSOFT-CDO-ALLDAYEVENT:TRUE
SUMMARY:Chamber Office Closed For Martin Luther King Day
DESCRIPTION:The Chamber Office will be closed on Monday\, January 16\, 2023\, in observance of Martin Luther King Day.  Have a safe holiday!\n\n\n\nWe apologize for any inconvenience!
X-ALT-DESC;FMTTYPE=text/html:<br />\n<span style="font-size:16px\;">The Chamber Office will be closed on Monday\, January 16\, 2023\, in observance of Martin Luther King Day.&nbsp\; Have a safe holiday!<br />\n<br />\nWe apologize for any inconvenience!</span>
LOCATION:
UID:e.1642.11316
SEQUENCE:3
DTSTAMP:20260423T161827Z
URL:https://business.phlcoc.net/events/details/chamber-office-closed-for-martin-luther-king-day-11316
END:VEVENT

END:VCALENDAR
