BEGIN:VCALENDAR
VERSION:2.0
PRODID:-//ChamberMaster//Event Calendar 2.0//EN
METHOD:PUBLISH
X-PUBLISHED-TTL:P3D
REFRESH-INTERVAL:P3D
CALSCALE:GREGORIAN
BEGIN:VEVENT
DTSTART;VALUE=DATE:20221227
DTEND;VALUE=DATE:20221228
TRANSP:TRANSPARENT
X-MICROSOFT-CDO-ALLDAYEVENT:TRUE
SUMMARY:Chamber Office Closed December 5th through January 2nd
DESCRIPTION:The Chamber office will be closed beginning December 5\, 2022\, and continuing through January 2\, 2023.\n\n\n\nWe will reopen on Tuesday\, January 3\, 2023\, at 8:00 a.m.\n\n\n\nWishing you a safe and blessed holiday season!
X-ALT-DESC;FMTTYPE=text/html:The Chamber office will be closed beginning December 5\, 2022\, and continuing through January 2\, 2023.<br>\n<br>\nWe will reopen on Tuesday\, January 3\, 2023\, at 8:00 a.m.<br>\n<br>\nWishing you a safe and blessed holiday season!
LOCATION:Park Hills - Leadington Chamber of Commerce
UID:e.1642.11291
SEQUENCE:3
DTSTAMP:20260423T145257Z
URL:https://business.phlcoc.net/events/details/chamber-office-closed-december-5th-through-january-2nd-12-27-2022-11291
END:VEVENT

END:VCALENDAR
